BEGIN:VCALENDAR
VERSION:2.0
PRODID:-//Godoy Cruz - ECPv4.5.8.1//NONSGML v1.0//EN
CALSCALE:GREGORIAN
METHOD:PUBLISH
X-WR-CALNAME:Godoy Cruz
X-ORIGINAL-URL:https://www.godoycruz.sisargentina.com
X-WR-CALDESC:Events for Godoy Cruz
BEGIN:VEVENT
DTSTART;TZID=UTC-3:20231103T210000
DTEND;TZID=UTC-3:20231103T210000
DTSTAMP:20260420T201014
CREATED:20231031T141307Z
LAST-MODIFIED:20231031T141307Z
UID:104777-1699045200-1699045200@www.godoycruz.sisargentina.com
SUMMARY:3 discos en Arizu
DESCRIPTION:[vc_row][vc_column][vc_column_text]La Dirección de Cultura e Industrias Creativas acompaña el lanzamiento de nuevas producciones discográficas con recitales en vivo. \nMariana Lara presenta «Violeta». \nEl trio de Francisca Figueroa\, Laureano Busse y Pablo Gil presenta «Jarilla». \nEl Coro Cantapueblo interpretará las canciones de «El Coro Cantapueblo canta Fito Paez».[/vc_column_text][/vc_column][/vc_row][vc_row][vc_column][vc_single_image image=»104780″ img_size=»full»][/vc_column][/vc_row] \n
URL:https://www.godoycruz.sisargentina.com/evento/3-discos-arizu/
ATTACH;FMTTYPE=image/jpeg:https://www.godoycruz.sisargentina.com/wp-content/uploads/2023/10/397186980_657807919871454_4960010254062890823_n.jpg
END:VEVENT
END:VCALENDAR