BEGIN:VCALENDAR
VERSION:2.0
PRODID:-//Godoy Cruz - ECPv4.5.8.1//NONSGML v1.0//EN
CALSCALE:GREGORIAN
METHOD:PUBLISH
X-WR-CALNAME:Godoy Cruz
X-ORIGINAL-URL:https://www.godoycruz.sisargentina.com
X-WR-CALDESC:Events for Godoy Cruz
BEGIN:VEVENT
DTSTART;TZID=UTC-3:20230422T180000
DTEND;TZID=UTC-3:20230422T180000
DTSTAMP:20260421T130859
CREATED:20230418T143735Z
LAST-MODIFIED:20230418T143735Z
UID:99319-1682186400-1682186400@www.godoycruz.sisargentina.com
SUMMARY:2º Encuentro Internacional de Charangos 2023
DESCRIPTION:[vc_row][vc_column][vc_column_text]Patio de comidas. Espectáculos musicales. Intervenciones artísticas. Exposición de instrumentos. \nGrilla artística \nBolivia:\nAlfredo Coca; Indalicio Giménez\, Daniel Villavicencio; Javier Gómez Flores; Alison Tania y Juan José Rocha. \nJujuy:\nRut Alonso y el Ayllu Musical. \nBuenos Aires:\nAldana Bello. \nMendoza:\nArchi Zambrano y Gustavo Bruno; Gabriela Perulán; Cristina Pérez Grupo; Dúo KuyumArawi; Saraí Magne y Joel Alanís. \nLas entradas se pueden obtener vía online en https://bit.ly/2FestDeCharango[/vc_column_text][/vc_column][/vc_row][vc_row][vc_column][vc_single_image image=»99320″ img_size=»full»][/vc_column][/vc_row] \n
URL:https://www.godoycruz.sisargentina.com/evento/2o-encuentro-internacional-charangos-2023/
ATTACH;FMTTYPE=image/jpeg:https://www.godoycruz.sisargentina.com/wp-content/uploads/2023/04/341872890_1256913378587808_7829270534317680012_n.jpg
END:VEVENT
END:VCALENDAR