BEGIN:VCALENDAR
VERSION:2.0
PRODID:-//Godoy Cruz - ECPv4.5.8.1//NONSGML v1.0//EN
CALSCALE:GREGORIAN
METHOD:PUBLISH
X-WR-CALNAME:Godoy Cruz
X-ORIGINAL-URL:https://www.godoycruz.sisargentina.com
X-WR-CALDESC:Events for Godoy Cruz
BEGIN:VEVENT
DTSTART;TZID=UTC-3:20231002T190000
DTEND;TZID=UTC-3:20231002T190000
DTSTAMP:20260420T234655
CREATED:20230927T144707Z
LAST-MODIFIED:20230927T144707Z
UID:103737-1696273200-1696273200@www.godoycruz.sisargentina.com
SUMMARY:26º Encuentro de Narradores "Maravillosas Historias en Democracia"
DESCRIPTION:[vc_row][vc_column][vc_column_text]Este clásico encuentro contará con la actuación de un destacado grupo de narradores de la Provincia. \nLos relatos estarán relacionados con los 40 años de la vuelta de la Democracia en el país y sus valores. \nNoche de apertura. \nDirector artístico: Sergio Martínez. \nEquipo artístico: Lara Garro; Diego Flores; Nicolás Nime; Pedro Contreras.[/vc_column_text][/vc_column][/vc_row][vc_row][vc_column][vc_single_image image=»103738″ img_size=»full»][/vc_column][/vc_row] \n
URL:https://www.godoycruz.sisargentina.com/evento/26o-encuentro-narradores-maravillosas-historias-democracia-2/
LOCATION:Tomba 54\, Godoy Cruz\, Mendoza\, 5501\, Argentina
ATTACH;FMTTYPE=image/jpeg:https://www.godoycruz.sisargentina.com/wp-content/uploads/2023/09/380714682_635353238783589_1202627889381424830_n.jpg
END:VEVENT
END:VCALENDAR