BEGIN:VCALENDAR
VERSION:2.0
PRODID:-//Godoy Cruz - ECPv4.5.8.1//NONSGML v1.0//EN
CALSCALE:GREGORIAN
METHOD:PUBLISH
X-WR-CALNAME:Godoy Cruz
X-ORIGINAL-URL:https://www.godoycruz.sisargentina.com
X-WR-CALDESC:Events for Godoy Cruz
BEGIN:VEVENT
DTSTART;TZID=UTC-3:20240511T210000
DTEND;TZID=UTC-3:20240511T210000
DTSTAMP:20260420T095646
CREATED:20240507T161128Z
LAST-MODIFIED:20240507T161128Z
UID:109714-1715461200-1715461200@www.godoycruz.sisargentina.com
SUMMARY:169 años - Beethoven
DESCRIPTION:[vc_row][vc_column][vc_column_text]Godoy Cruz celebra 169 años con un espectáculo musical único. \nBajo la dirección de Mariano Peralta\, la Orquesta Barroca de Mendoza interpretará obras claves de Beethoven y la Quinta Sinfonía. \nPrograma: \nOberturas\nEgmont. Op 84. (10 min)\nLas Criaturas de Prometeo. Op. 43. (5 min.) \nSinfonías\n2º movimiento de la 7º Sinfonía de Beethoven. (9 min).\n5ta sinfonía de Beethoven. (38 min). \nDirección general: Mariano Peralta. \nPodés comprar tus entradas online en https://bit.ly/169AniversarioGC o en la boletería del teatro (Colón 27\, Godoy Cruz)\, de lunes a viernes\, de 9 a 16H.[/vc_column_text][/vc_column][/vc_row][vc_row][vc_column][vc_single_image image=»109716″ img_size=»full»][/vc_column][/vc_row] \n
URL:https://www.godoycruz.sisargentina.com/evento/169-anos-beethoven/
LOCATION:Colón 27\, Godoy Cruz\, Mendoza\, 5501\, Argentina
ATTACH;FMTTYPE=image/jpeg:https://www.godoycruz.sisargentina.com/wp-content/uploads/2024/05/441292558_761508882734181_6536596998012187529_n.jpg
END:VEVENT
END:VCALENDAR