BEGIN:VCALENDAR
VERSION:2.0
PRODID:-//Godoy Cruz - ECPv4.5.8.1//NONSGML v1.0//EN
CALSCALE:GREGORIAN
METHOD:PUBLISH
X-WR-CALNAME:Godoy Cruz
X-ORIGINAL-URL:https://www.godoycruz.sisargentina.com
X-WR-CALDESC:Events for Godoy Cruz
BEGIN:VEVENT
DTSTART;TZID=UTC-3:20210511T103000
DTEND;TZID=UTC-3:20210511T103000
DTSTAMP:20260422T232304
CREATED:20210507T163952Z
LAST-MODIFIED:20210507T163952Z
UID:77387-1620729000-1620729000@www.godoycruz.sisargentina.com
SUMMARY:166º Aniversario de Godoy Cruz
DESCRIPTION:[vc_row][vc_column][vc_column_text]Celebramos los 166 años de Godoy Cruz. \nHabrá intervenciones artísticas móviles en «Paso de los Andes Cultural». \nMúsica\, magia\, danzas\, malabares\, estatuas vivientes y mucho más. \nArtistas: \nLucho Aberastain; Ballet Municipal de Godoy Cruz; Dúo Mágico Cruzale; Emilio Spitz; Leo Ibaceta.[/vc_column_text][/vc_column][/vc_row][vc_row][vc_column][vc_single_image image=»77388″ img_size=»full»][/vc_column][/vc_row] \n
URL:https://www.godoycruz.sisargentina.com/evento/166o-aniversario-godoy-cruz/
ATTACH;FMTTYPE=image/jpeg:https://www.godoycruz.sisargentina.com/wp-content/uploads/2021/05/WhatsApp-Image-2021-05-07-at-10.31.26.jpeg
END:VEVENT
END:VCALENDAR