BEGIN:VCALENDAR
VERSION:2.0
PRODID:-//Godoy Cruz - ECPv4.5.8.1//NONSGML v1.0//EN
CALSCALE:GREGORIAN
METHOD:PUBLISH
X-WR-CALNAME:Godoy Cruz
X-ORIGINAL-URL:https://www.godoycruz.sisargentina.com
X-WR-CALDESC:Events for Godoy Cruz
BEGIN:VEVENT
DTSTART;TZID=UTC-3:20190510T210000
DTEND;TZID=UTC-3:20190510T210000
DTSTAMP:20260424T174943
CREATED:20190503T161026Z
LAST-MODIFIED:20190503T161026Z
UID:58846-1557522000-1557522000@www.godoycruz.sisargentina.com
SUMMARY:164º Aniversario de Godoy Cruz.“Godoy Cruz Festeja”
DESCRIPTION:[vc_row][vc_column][vc_column_text]Velada de gala. \n21:00. Cine Teatro Plaza (Colón 27). Presentación disco del Coro Cantapueblo “Surcando Versos” (2019). \nActuación en vivo del Coro junto a: Sandra Amaya\, Tilín Orozco\, Paula Neder\, Raly Barrionuevo\, Anabel Molina\, Pocho Sosa\, Sebastián Garay\, Sergio Bonelli\, Roberto “Negro” Fiat\, Pepe Cambria. \nMúsicos Invitados: Gustavo Bruno\, Lalo Correa\, Gabriel Narváez\, Quique Öesch y Dante Ochoa. Entrada gratuita (retirar entradas en la boletería del teatro\, de lunes a sábado\, de 9:00 a 18.00).[/vc_column_text][/vc_column][/vc_row][vc_row][vc_column][vc_single_image image=»58847″ img_size=»full»][/vc_column][/vc_row] \n
URL:https://www.godoycruz.sisargentina.com/evento/164o-aniversario-godoy-cruz-godoy-cruz-festeja/
LOCATION:Colón 27\, Godoy Cruz\, Mendoza\, 5501\, Argentina
ATTACH;FMTTYPE=image/jpeg:https://www.godoycruz.sisargentina.com/wp-content/uploads/2019/05/AniversarioGC2019-10.jpg
END:VEVENT
END:VCALENDAR