BEGIN:VCALENDAR
VERSION:2.0
PRODID:-//Godoy Cruz - ECPv4.5.8.1//NONSGML v1.0//EN
CALSCALE:GREGORIAN
METHOD:PUBLISH
X-WR-CALNAME:Godoy Cruz
X-ORIGINAL-URL:https://www.godoycruz.sisargentina.com
X-WR-CALDESC:Events for Godoy Cruz
BEGIN:VEVENT
DTSTART;TZID=UTC-3:20221209T180000
DTEND;TZID=UTC-3:20221209T180000
DTSTAMP:20260421T190043
CREATED:20221206T132227Z
LAST-MODIFIED:20221206T132227Z
UID:96026-1670608800-1670608800@www.godoycruz.sisargentina.com
SUMMARY:15º Fiesta Provincial de la Cerveza
DESCRIPTION:[vc_row][vc_column][vc_column_text]Arranca la fiesta musical y gastronómica más importante del oeste argentino. \nLas mejores bandas en vivo\, foodtrucks\, cervecerías y muchas sorpresas. \nVenta online: a través de la web fiestacervezagc.com.ar \nVenta presencial: boletería del Teatro Plaza (Colón 27\, Godoy Cruz). \nHorario de atención: de lunes a sábado\, de 9 a 18 HS. \nLa Grilla: \nViernes 9: VHS; LA BLUNTY; LA LUCÍA; MAURITO AND THE RUFOS; ALEJO Y VALENTÍN; NICKI NICOLE. \n[/vc_column_text][/vc_column][/vc_row][vc_row][vc_column width=»1/2″][vc_single_image image=»96027″ img_size=»full»][/vc_column][vc_column width=»1/2″][vc_single_image image=»96028″][/vc_column][/vc_row] \n
URL:https://www.godoycruz.sisargentina.com/evento/15o-fiesta-provincial-la-cerveza/
ATTACH;FMTTYPE=image/jpeg:https://www.godoycruz.sisargentina.com/wp-content/uploads/2022/12/316129643_5683226155047186_8138861480172356547_n.jpg
END:VEVENT
END:VCALENDAR