BEGIN:VCALENDAR
VERSION:2.0
PRODID:-//Godoy Cruz - ECPv4.5.8.1//NONSGML v1.0//EN
CALSCALE:GREGORIAN
METHOD:PUBLISH
X-WR-CALNAME:Godoy Cruz
X-ORIGINAL-URL:https://www.godoycruz.sisargentina.com
X-WR-CALDESC:Events for Godoy Cruz
BEGIN:VEVENT
DTSTART;TZID=UTC-3:20191005T210000
DTEND;TZID=UTC-3:20191005T210000
DTSTAMP:20260424T073841
CREATED:20190923T183147Z
LAST-MODIFIED:20190923T183147Z
UID:63117-1570309200-1570309200@www.godoycruz.sisargentina.com
SUMMARY:12º Festival San Vicente Tango
DESCRIPTION:[vc_row][vc_column][vc_column_text]21:00. Teatro Plaza (Colón 27). Entrada general: $50. \nArtistas: Leo Sujatovich junto a Fabrizio Colombo y Patricia Cangemi. \nPareja de bailarines: Fernando Galera & Pía Galiano (Bs as). \nTrio Colombo. Ballet Municipal de Godoy Cruz. Quinteto Ciudad. \n[/vc_column_text][/vc_column][/vc_row][vc_row][vc_column][vc_single_image image=»63113″ img_size=»full»][/vc_column][/vc_row] \n
URL:https://www.godoycruz.sisargentina.com/evento/12o-festival-san-vicente-tango-8/
LOCATION:Colón 27\, Godoy Cruz\, Mendoza\, 5501\, Argentina
ATTACH;FMTTYPE=image/jpeg:https://www.godoycruz.sisargentina.com/wp-content/uploads/2019/09/SVT-2019-gral.jpg
END:VEVENT
END:VCALENDAR