BEGIN:VCALENDAR
VERSION:2.0
PRODID:-//Godoy Cruz - ECPv4.5.8.1//NONSGML v1.0//EN
CALSCALE:GREGORIAN
METHOD:PUBLISH
X-WR-CALNAME:Godoy Cruz
X-ORIGINAL-URL:https://www.godoycruz.sisargentina.com
X-WR-CALDESC:Events for Godoy Cruz
BEGIN:VEVENT
DTSTART;TZID=UTC-3:20191006T110000
DTEND;TZID=UTC-3:20191006T110000
DTSTAMP:20260424T055654
CREATED:20190923T180302Z
LAST-MODIFIED:20190923T180302Z
UID:63109-1570359600-1570359600@www.godoycruz.sisargentina.com
SUMMARY:12º Festival San Vicente Tango
DESCRIPTION:[vc_row][vc_column][vc_column_text]Capacitación de tango. \n11:00. Club Andes Talleres. \nPareja invitada: Fernando Galera & Pía Galiano (Bs as). \nConsultas e inscripciones: Virginia Paes (261 5376277). \n [/vc_column_text][/vc_column][/vc_row][vc_row][vc_column][vc_single_image image=»63105″ img_size=»full»][/vc_column][/vc_row] \n
URL:https://www.godoycruz.sisargentina.com/evento/12o-festival-san-vicente-tango-6/
ATTACH;FMTTYPE=image/jpeg:https://www.godoycruz.sisargentina.com/wp-content/uploads/2019/09/SVT-2019-CAP-1.jpg
END:VEVENT
END:VCALENDAR