BEGIN:VCALENDAR
VERSION:2.0
PRODID:-//Godoy Cruz - ECPv4.5.8.1//NONSGML v1.0//EN
CALSCALE:GREGORIAN
METHOD:PUBLISH
X-WR-CALNAME:Godoy Cruz
X-ORIGINAL-URL:https://www.godoycruz.sisargentina.com
X-WR-CALDESC:Events for Godoy Cruz
BEGIN:VEVENT
DTSTART;TZID=UTC-3:20191004T230000
DTEND;TZID=UTC-3:20191004T230000
DTSTAMP:20260424T061406
CREATED:20190923T172056Z
LAST-MODIFIED:20190923T172056Z
UID:63100-1570230000-1570230000@www.godoycruz.sisargentina.com
SUMMARY:12º Festival San Vicente Tango
DESCRIPTION:[vc_row][vc_column][vc_column_text]23:00. Cantina de Talleres (Belgrano 1601). \nEntrada gratuita (limitada a la capacidad de la sala). \nArtista: Calderon & Oliva Tango Jam. \n[/vc_column_text][/vc_column][/vc_row][vc_row][vc_column][vc_single_image image=»63094″ img_size=»full»][/vc_column][/vc_row] \n
URL:https://www.godoycruz.sisargentina.com/evento/12o-festival-san-vicente-tango-4/
ATTACH;FMTTYPE=image/jpeg:https://www.godoycruz.sisargentina.com/wp-content/uploads/2019/09/SVT-2019-gral.jpg
END:VEVENT
END:VCALENDAR