BEGIN:VCALENDAR
VERSION:2.0
PRODID:-//Godoy Cruz - ECPv4.5.8.1//NONSGML v1.0//EN
CALSCALE:GREGORIAN
METHOD:PUBLISH
X-WR-CALNAME:Godoy Cruz
X-ORIGINAL-URL:https://www.godoycruz.sisargentina.com
X-WR-CALDESC:Events for Godoy Cruz
BEGIN:VEVENT
DTSTART;TZID=UTC-3:20190407T180000
DTEND;TZID=UTC-3:20190407T203000
DTSTAMP:20260424T205815
CREATED:20190327T160337Z
LAST-MODIFIED:20190327T160337Z
UID:58129-1554660000-1554669000@www.godoycruz.sisargentina.com
SUMMARY:11º Festival San Vicente Jazz
DESCRIPTION:[vc_row][vc_column][vc_column_text]18:00 – Parque Estación Benegas (Av. del Trabajo y Panamericana). Banda Blas Blotta (Mza). Entrada gratuita. \n20:30 – Centro Patrimonial Artístico Cristoforo Colombo (Tomba 246). Apertura de la muestra fotográfica “Cuba libre” y música en vivo con Raúl Monteagudo & Elena Guarner (Cuba). Entrada gratuita (limitada a la capacidad de la sala) \n[/vc_column_text][/vc_column][/vc_row][vc_row][vc_column][vc_single_image image=»58130″ img_size=»full»][/vc_column][/vc_row] \n
URL:https://www.godoycruz.sisargentina.com/evento/11o-festival-san-vicente-jazz-3/
ATTACH;FMTTYPE=image/jpeg:https://www.godoycruz.sisargentina.com/wp-content/uploads/2019/03/IMG-20190325-WA0002.jpg
END:VEVENT
END:VCALENDAR