BEGIN:VCALENDAR
VERSION:2.0
PRODID:-//Godoy Cruz - ECPv4.5.8.1//NONSGML v1.0//EN
CALSCALE:GREGORIAN
METHOD:PUBLISH
X-WR-CALNAME:Godoy Cruz
X-ORIGINAL-URL:https://www.godoycruz.sisargentina.com
X-WR-CALDESC:Events for Godoy Cruz
BEGIN:VEVENT
DTSTART;TZID=UTC-3:20191007T200000
DTEND;TZID=UTC-3:20191007T213000
DTSTAMP:20260424T043300
CREATED:20191003T185931Z
LAST-MODIFIED:20191003T185931Z
UID:63346-1570478400-1570483800@www.godoycruz.sisargentina.com
SUMMARY:11º Festival Provincial de Cine MIRADA OESTE
DESCRIPTION:[vc_row][vc_column width=»1/2″][vc_column_text]20:00 – Teatro Plaza (Colón 27. Godoy Cruz). Apertura: Concierto de Leo Sujatovich “Generación Diamante”. Entrada gratuita.[/vc_column_text][/vc_column][vc_column width=»1/2″][vc_single_image image=»63347″ img_size=»full»][/vc_column][/vc_row][vc_row][vc_column width=»1/2″][vc_column_text]21:30 – Teatro Plaza (Colón 27. Godoy Cruz). Proyección: “Todo por el ascenso”. Argentina (2019). 80 min. Dir. Jorge Pirwowarski. Presenta su director. Entrada gratuita. Presentación del avance de “Un crack”\, con Christian Sancho. \n [/vc_column_text][/vc_column][vc_column width=»1/2″][vc_single_image image=»63347″ img_size=»full»][/vc_column][/vc_row] \n
URL:https://www.godoycruz.sisargentina.com/evento/11o-festival-provincial-cine-mirada-oeste/
LOCATION:Colón 27\, Godoy Cruz\, Mendoza\, 5501\, Argentina
ATTACH;FMTTYPE=image/jpeg:https://www.godoycruz.sisargentina.com/wp-content/uploads/2019/10/web-MO2019-APERTURA01.jpg
END:VEVENT
END:VCALENDAR