BEGIN:VCALENDAR
VERSION:2.0
PRODID:-//Godoy Cruz - ECPv4.5.8.1//NONSGML v1.0//EN
CALSCALE:GREGORIAN
METHOD:PUBLISH
X-WR-CALNAME:Godoy Cruz
X-ORIGINAL-URL:https://www.godoycruz.sisargentina.com
X-WR-CALDESC:Events for Godoy Cruz
BEGIN:VEVENT
DTSTART;TZID=UTC-3:20191012T163000
DTEND;TZID=UTC-3:20191012T213000
DTSTAMP:20260424T061143
CREATED:20191005T135522Z
LAST-MODIFIED:20191005T135522Z
UID:63440-1570897800-1570915800@www.godoycruz.sisargentina.com
SUMMARY:11º Festival Provincial de Cine MIRADA OESTE
DESCRIPTION:[vc_row][vc_column width=»1/2″][vc_column_text]16:30 – B+M (A. Tomba 54 – Godoy Cruz). Exhibición de cortometrajes en competencia. Entrada gratuita (limitada a la sala).[/vc_column_text][/vc_column][vc_column width=»1/2″][vc_single_image image=»63441″ img_size=»full»][/vc_column][/vc_row][vc_row][vc_column width=»1/2″][vc_column_text]18.00 – Domo Museo Ferroviario (Av. Del Trabajo y Panamericana – Godoy Cruz). Ciclo “90 años con García Ferré. Proyección: “Corazón\, las alegrías de Pantriste”. Argentina (2000). 80 min. Dir. Manuel García Ferré. Entrada gratuita (limitada a la sala).[/vc_column_text][/vc_column][vc_column width=»1/2″][vc_single_image image=»63442″ img_size=»full»][/vc_column][/vc_row][vc_row][vc_column width=»1/2″][vc_column_text]20:00 – Domo Museo Ferroviario (Av. Del Trabajo y Panamericana – Godoy Cruz).       Ciclo “Efecto Tequila”. Proyección: “El laberinto del fauno”. España (2006). 112 min. Dir. Guillermo del Toro. Entrada gratuita (limitada a la sala).[/vc_column_text][/vc_column][vc_column width=»1/2″][vc_single_image image=»63442″ img_size=»full»][/vc_column][/vc_row][vc_row][vc_column width=»1/2″][vc_column_text]21:30- B+M (A. Tomba 54 – Godoy Cruz). Proyección: “Los tiburones”.  Uruguay (2019).   83 min. Dir. Lucía Garibaldi. Entrada gratuita (limitada a la sala).[/vc_column_text][/vc_column][vc_column width=»1/2″][vc_single_image image=»63441″ img_size=»full»][/vc_column][/vc_row] \n
URL:https://www.godoycruz.sisargentina.com/evento/11o-festival-provincial-cine-mirada-oeste-9/
ATTACH;FMTTYPE=image/jpeg:https://www.godoycruz.sisargentina.com/wp-content/uploads/2019/10/web-Mo-gral-444-GC.jpg
END:VEVENT
END:VCALENDAR