BEGIN:VCALENDAR
VERSION:2.0
PRODID:-//Godoy Cruz - ECPv4.5.8.1//NONSGML v1.0//EN
CALSCALE:GREGORIAN
METHOD:PUBLISH
X-WR-CALNAME:Godoy Cruz
X-ORIGINAL-URL:https://www.godoycruz.sisargentina.com
X-WR-CALDESC:Events for Godoy Cruz
BEGIN:VEVENT
DTSTART;TZID=UTC-3:20191011T100000
DTEND;TZID=UTC-3:20191011T100000
DTSTAMP:20260424T060559
CREATED:20191005T131126Z
LAST-MODIFIED:20191005T131126Z
UID:63429-1570788000-1570788000@www.godoycruz.sisargentina.com
SUMMARY:11º Festival Provincial de Cine MIRADA OESTE
DESCRIPTION:[vc_row][vc_column width=»1/2″][vc_column_text]10:00 – Teatro Plaza (Colón 27. Godoy Cruz). Proyección: “Bu y Bu”\, una aventura interdimensional. Argentina (Mendoza). 104 min. Dir. Eduardo Rodríguez Bossut. Función para escuelas y público en general. Informes e inscripciones: (0261) 4133250\, de 9:00 a 13:30. Entrada promocional: $50.[/vc_column_text][/vc_column][vc_column width=»1/2″][vc_single_image image=»63404″ img_size=»full»][/vc_column][/vc_row] \n
URL:https://www.godoycruz.sisargentina.com/evento/11o-festival-provincial-cine-mirada-oeste-8/
LOCATION:Colón 27\, Godoy Cruz\, Mendoza\, 5501\, Argentina
ATTACH;FMTTYPE=image/jpeg:https://www.godoycruz.sisargentina.com/wp-content/uploads/2019/10/web-MO2019-ESCUELAS-02.jpg
END:VEVENT
END:VCALENDAR