BEGIN:VCALENDAR
VERSION:2.0
PRODID:-//Godoy Cruz - ECPv4.5.8.1//NONSGML v1.0//EN
CALSCALE:GREGORIAN
METHOD:PUBLISH
X-WR-CALNAME:Godoy Cruz
X-ORIGINAL-URL:https://www.godoycruz.sisargentina.com
X-WR-CALDESC:Events for Godoy Cruz
BEGIN:VEVENT
DTSTART;TZID=UTC-3:20191010T193000
DTEND;TZID=UTC-3:20191010T213000
DTSTAMP:20260424T061143
CREATED:20191005T023352Z
LAST-MODIFIED:20191005T023352Z
UID:63425-1570735800-1570743000@www.godoycruz.sisargentina.com
SUMMARY:11º Festival Provincial de Cine MIRADA OESTE
DESCRIPTION:[vc_row][vc_column width=»1/2″][vc_column_text]19:30 – B+M (A. Tomba 54 – Godoy Cruz). Proyección: “Encandilan luces\, viaje psicotrópico con Los Síquicos Litoraleños”. Argentina (2018). 80 min. Dir. Alejandro Gallo Bermúdez. Presenta su director. Entrada gratuita (limitada a la sala).[/vc_column_text][/vc_column][vc_column width=»1/2″][vc_single_image image=»63426″ img_size=»full»][/vc_column][/vc_row][vc_row][vc_column width=»1/2″][vc_column_text]21:30 – B+M (A. Tomba 54 – Godoy Cruz). Proyección: “Mi mejor amigo”. Argentina  (2018). 90 min. Dir. Martín Deus. Presenta su director y protagonistas. Entrada gratuita (limitada a la sala).[/vc_column_text][/vc_column][vc_column width=»1/2″][vc_single_image image=»63426″ img_size=»full»][/vc_column][/vc_row] \n
URL:https://www.godoycruz.sisargentina.com/evento/11o-festival-provincial-cine-mirada-oeste-7/
LOCATION:Tomba 54\, Godoy Cruz\, Mendoza\, 5501\, Argentina
ATTACH;FMTTYPE=image/jpeg:https://www.godoycruz.sisargentina.com/wp-content/uploads/2019/10/web-Mo-gral-444-GC.jpg
END:VEVENT
END:VCALENDAR