BEGIN:VCALENDAR
VERSION:2.0
PRODID:-//Godoy Cruz - ECPv4.5.8.1//NONSGML v1.0//EN
CALSCALE:GREGORIAN
METHOD:PUBLISH
X-WR-CALNAME:Godoy Cruz
X-ORIGINAL-URL:https://www.godoycruz.sisargentina.com
X-WR-CALDESC:Events for Godoy Cruz
BEGIN:VEVENT
DTSTART;TZID=UTC-3:20191009T100000
DTEND;TZID=UTC-3:20191009T213000
DTSTAMP:20260424T061136
CREATED:20191005T015841Z
LAST-MODIFIED:20191005T015841Z
UID:63417-1570615200-1570656600@www.godoycruz.sisargentina.com
SUMMARY:11º Festival Provincial de Cine MIRADA OESTE
DESCRIPTION:[vc_row][vc_column width=»1/2″][vc_column_text]De 10:00 a 13:00 – B+M (A. Tomba 54 – Godoy Cruz). Capacitación: “Proceso de creación de una banda sonora”. Por Gaspar Scheuer. Informes e inscripciones: (0261) 4133250\, de 9:00 a 13:30 o en miradaoeste2019@gmail.com. Cupos limitados. Entrada gratuita.[/vc_column_text][/vc_column][vc_column width=»1/2″][vc_single_image image=»63418″ img_size=»full»][/vc_column][/vc_row][vc_row][vc_column width=»1/2″][vc_column_text]19:30 – B+M (A. Tomba 54 – Godoy Cruz). Proyección: “Sueño Florianópolis”. Argentina (2018). 106 min. Dir. Ana Katz. Entrada gratuita (limitada a la sala).[/vc_column_text][/vc_column][vc_column width=»1/2″][vc_single_image image=»63419″ img_size=»full»][/vc_column][/vc_row][vc_row][vc_column width=»1/2″][vc_column_text]21:30 – B+M (A. Tomba 54 – Godoy Cruz). Homenaje a Zuhair Jury. Proyección: “El dependiente”. Argentina (1969). 87 min. Dir. Leonardo Favio. Entrada gratuita (limitada a la sala). \n [/vc_column_text][/vc_column][vc_column width=»1/2″][vc_single_image image=»63419″ img_size=»full»][/vc_column][/vc_row] \n
URL:https://www.godoycruz.sisargentina.com/evento/11o-festival-provincial-cine-mirada-oeste-5/
LOCATION:Tomba 54\, Godoy Cruz\, Mendoza\, 5501\, Argentina
ATTACH;FMTTYPE=image/jpeg:https://www.godoycruz.sisargentina.com/wp-content/uploads/2019/10/web-Mo-gral-444-GC.jpg
END:VEVENT
END:VCALENDAR