BEGIN:VCALENDAR
VERSION:2.0
PRODID:-//Godoy Cruz - ECPv4.5.8.1//NONSGML v1.0//EN
CALSCALE:GREGORIAN
METHOD:PUBLISH
X-WR-CALNAME:Godoy Cruz
X-ORIGINAL-URL:https://www.godoycruz.sisargentina.com
X-WR-CALDESC:Events for Godoy Cruz
BEGIN:VEVENT
DTSTART;TZID=UTC-3:20190524T210000
DTEND;TZID=UTC-3:20190524T210000
DTSTAMP:20260424T181231
CREATED:20190508T152743Z
LAST-MODIFIED:20190508T152743Z
UID:58997-1558731600-1558731600@www.godoycruz.sisargentina.com
SUMMARY:10º Festival del Cantar Opinando
DESCRIPTION:[vc_row][vc_column][vc_column_text]La música comprometida vuelve a ser protagonista. \nArtistas en vivo: Mauricio Gelardi; Francisca Figueroa;  Andrés Correa – Seba Ibarra. \nEntrada gratuita (limitada a la capacidad de la sala) . Organiza: Municipalidad de Godoy Cruz[/vc_column_text][/vc_column][/vc_row][vc_row][vc_column][vc_single_image image=»58998″ img_size=»full»][/vc_column][/vc_row] \n
URL:https://www.godoycruz.sisargentina.com/evento/10o-festival-del-cantar-opinando-2/
LOCATION:Tomba 54\, Godoy Cruz\, Mendoza\, 5501\, Argentina
ATTACH;FMTTYPE=image/jpeg:https://www.godoycruz.sisargentina.com/wp-content/uploads/2019/05/WEB-cantar-opinando-GRAL.jpg
END:VEVENT
END:VCALENDAR