BEGIN:VCALENDAR
VERSION:2.0
PRODID:-//Godoy Cruz - ECPv4.5.8.1//NONSGML v1.0//EN
CALSCALE:GREGORIAN
METHOD:PUBLISH
X-WR-CALNAME:Godoy Cruz
X-ORIGINAL-URL:https://www.godoycruz.sisargentina.com
X-WR-CALDESC:Events for Godoy Cruz
BEGIN:VEVENT
DTSTART;TZID=UTC-3:20171208T180000
DTEND;TZID=UTC-3:20171208T180000
DTSTAMP:20260425T224133
CREATED:20171204T180200Z
LAST-MODIFIED:20171204T181837Z
UID:44731-1512756000-1512756000@www.godoycruz.sisargentina.com
SUMMARY:10º Edición Fiesta Provincial de la Cerveza
DESCRIPTION:[vc_row][vc_column][vc_column_text]Parque San Vicente (Av. Ing. Cipolletti y Mosconi). \nDoble escenario\, recitales en vivo y patio de comidas con lo mejor de la cerveza artesanal. \nEscenario A: GUASONES; BERSUIT VERGARABAT; LA SKANDALOSA TRIPULACIÓN \nEscenario B: TODOS TUS MUERTOS; BIEN SUDACA; CINICAL; KANAL BANTÚ[/vc_column_text][/vc_column][/vc_row][vc_row][vc_column][vc_btn title=»Venta de entradas» style=»flat» color=»warning» link=»url:https%3A%2F%2Fwww.1000tickets.com.ar%2F||target:%20_blank|»][/vc_column][/vc_row][vc_row][vc_column][vc_single_image image=»44732″ img_size=»full»][/vc_column][/vc_row][vc_row][vc_column][vc_single_image image=»44733″ img_size=»full»][/vc_column][/vc_row][vc_row][vc_column][vc_single_image image=»44734″ img_size=»full»][/vc_column][/vc_row][vc_row][vc_column][vc_gmaps link=»#E-8_JTNDaWZyYW1lJTIwc3JjJTNEJTIyaHR0cHMlM0ElMkYlMkZ3d3cuZ29vZ2xlLmNvbSUyRm1hcHMlMkZlbWJlZCUzRnBiJTNEJTIxMW0xOCUyMTFtMTIlMjExbTMlMjExZDMzNDguNjk3NDUxNTcxNjg0NyUyMTJkLTY4Ljg1NTc0NjU4NTE5ODc3JTIxM2QtMzIuOTMyNTkwODgwOTI1MjglMjEybTMlMjExZjAlMjEyZjAlMjEzZjAlMjEzbTIlMjExaTEwMjQlMjEyaTc2OCUyMTRmMTMuMSUyMTNtMyUyMTFtMiUyMTFzMHg5NjdlMGJkM2YxMDIzMjM1JTI1M0EweDlhODc4NmI4OTRmOTA0MjElMjEyc1BhcnF1ZSUyQlNhbiUyQlZpY2VudGUlMjE1ZTAlMjEzbTIlMjExc2VzLTQxOSUyMTJzYXIlMjE0djE1MTI0MTAzMzA1MTclMjIlMjB3aWR0aCUzRCUyMjYwMCUyMiUyMGhlaWdodCUzRCUyMjQ1MCUyMiUyMGZyYW1lYm9yZGVyJTNEJTIyMCUyMiUyMHN0eWxlJTNEJTIyYm9yZGVyJTNBMCUyMiUyMGFsbG93ZnVsbHNjcmVlbiUzRSUzQyUyRmlmcmFtZSUzRQ==»][/vc_column][/vc_row] \n
URL:https://www.godoycruz.sisargentina.com/evento/10o-edicion-fiesta-provincial-la-cerveza-2/
ATTACH;FMTTYPE=image/jpeg:https://www.godoycruz.sisargentina.com/wp-content/uploads/2017/12/23755653_1532942526742257_9096858102667665821_n.jpg
END:VEVENT
END:VCALENDAR