BEGIN:VCALENDAR
VERSION:2.0
PRODID:-//Godoy Cruz - ECPv4.5.8.1//NONSGML v1.0//EN
CALSCALE:GREGORIAN
METHOD:PUBLISH
X-WR-CALNAME:Godoy Cruz
X-ORIGINAL-URL:https://www.godoycruz.sisargentina.com
X-WR-CALDESC:Events for Godoy Cruz
BEGIN:VEVENT
DTSTART;TZID=UTC-3:20240615T193000
DTEND;TZID=UTC-3:20240615T193000
DTSTAMP:20260422T215450
CREATED:20240611T150257Z
LAST-MODIFIED:20240611T150257Z
UID:111398-1718479800-1718479800@www.godoycruz.sisargentina.com
SUMMARY:Ciclo Musicums: "Cantares y canciones. Música argentina para canto y piano"
DESCRIPTION:[vc_row][vc_column][vc_column_text]Llega un nuevo concierto de músicos que forman parte del Coro Universitario de Mendoza. \nEn esta oportunidad\, el tenor Gabriel Sánchez junto al pianista Ruy Facó (ambos miembros actuales del CUM) presentan un apasionante recorrido por acordes nacionales. \nDurante sus casi 60 años de existencia\, múltiples músicos y artistas han sido parte de las filas del Coro Universitario de Mendoza de la UNCuyo. \nEn honor a ellos está dedicada esta serie de conciertos\, que recogen distintas expresiones artísticas de sus miembros\, ya sean actuales o históricos. \nEntradas online en venta en https://bit.ly/MusicumsCantoPiano \nValores: $3000 (general). $2500 (estudiantes y jubilados).[/vc_column_text][/vc_column][/vc_row][vc_row][vc_column][vc_single_image image=»111400″ img_size=»full»][/vc_column][/vc_row] \n
URL:https://www.godoycruz.sisargentina.com/evento/ciclo-musicums-cantares-canciones-musica-argentina-canto-piano/
ATTACH;FMTTYPE=image/jpeg:https://www.godoycruz.sisargentina.com/wp-content/uploads/2024/06/godoy-cruz-feed.jpg
END:VEVENT
BEGIN:VEVENT
DTSTART;TZID=UTC-3:20240615T210000
DTEND;TZID=UTC-3:20240615T210000
DTSTAMP:20260422T215450
CREATED:20240528T161657Z
LAST-MODIFIED:20240607T155513Z
UID:110766-1718485200-1718485200@www.godoycruz.sisargentina.com
SUMMARY:El Flaco Pailos - El Bufón del Rey
DESCRIPTION:[vc_row][vc_column][vc_column_text]Fernando «El Flaco» Pailos presenta su nuevo unipersonal\, El Bufón del Rey. \nEl humorista cordobés revitaliza su espectáculo y le propone al público reírse de sí mismo. \nNos muestra que\, aunque seamos iguales\, somos distintos e imperfectos y el humor nos reconforta ante nuestras imperfecciones. \nChistes e historias actúan como espejos que nos permiten encontrarnos y disfrutar de risas sin parar. \nLas entradas se pueden obtener vía online en https://bit.ly/FlacoPailosBufón o en la boletería del teatro (Colón 27\, Godoy Cruz)\, de lunes a viernes de 9 a 15hs.[/vc_column_text][/vc_column][/vc_row][vc_row][vc_column][vc_single_image image=»110767″ img_size=»full»][/vc_column][/vc_row] \n
URL:https://www.godoycruz.sisargentina.com/evento/flaco-pailos-bufon-del-rey1/
LOCATION:Colón 27\, Godoy Cruz\, Mendoza\, 5501\, Argentina
ATTACH;FMTTYPE=image/jpeg:https://www.godoycruz.sisargentina.com/wp-content/uploads/2024/05/MDIA-2203dda7.jpg
END:VEVENT
END:VCALENDAR