BEGIN:VCALENDAR
VERSION:2.0
PRODID:-//Godoy Cruz - ECPv4.5.8.1//NONSGML v1.0//EN
CALSCALE:GREGORIAN
METHOD:PUBLISH
X-WR-CALNAME:Godoy Cruz
X-ORIGINAL-URL:https://www.godoycruz.sisargentina.com
X-WR-CALDESC:Events for Godoy Cruz
BEGIN:VEVENT
DTSTART;TZID=UTC-3:20240614T213000
DTEND;TZID=UTC-3:20240614T213000
DTSTAMP:20260422T232138
CREATED:20240605T164113Z
LAST-MODIFIED:20240607T155239Z
UID:111113-1718400600-1718400600@www.godoycruz.sisargentina.com
SUMMARY:Volvió Roberto
DESCRIPTION:[vc_row][vc_column][vc_column_text]“Volvió Roberto” es el nuevo espectáculo con el que el actor y director Daniel Quiroga conquistará a la audiencia mendocina. \nEn este show\, Quiroga le da vida a Raquel\, una mujer que a lo largo de todo el año pasado exteriorizó su dolor frente a la partida de su gran amor\, Roberto. Un hombre con quien convivió a lo largo de 15 años y a quien jamás dejó de amar. \nAhora volvió y ambos apuestan al amor o\, al menos\, intentarán recomponer lo que un día los hizo muy felices. \nIdea\, autor y dirección: Daniel Quiroga. \nVestuario y escenografía: Emir Vanella. \nAsistencia técnica: Nicolas Ledesma. \nAsistente de dirección: Gustavo Álvarez. \nFotografía y video: Matías Sack. \nLas entradas se pueden obtener vía online en  https://bit.ly/EntradasVolvióRoberto o en la boletería del teatro (Colón 27\, Godoy Cruz)\, de lunes a viernes de 9 a 15hs.[/vc_column_text][/vc_column][/vc_row][vc_row][vc_column][vc_single_image image=»111114″ img_size=»full»][/vc_column][/vc_row] \n
URL:https://www.godoycruz.sisargentina.com/evento/volvio-roberto1/
LOCATION:Colón 27\, Godoy Cruz\, Mendoza\, 5501\, Argentina
ATTACH;FMTTYPE=image/jpeg:https://www.godoycruz.sisargentina.com/wp-content/uploads/2024/06/Flyer-Volvió-Robert-en-el-Teatro-Plaza.jpg
END:VEVENT
END:VCALENDAR