BEGIN:VCALENDAR
VERSION:2.0
PRODID:-//Godoy Cruz - ECPv4.5.8.1//NONSGML v1.0//EN
CALSCALE:GREGORIAN
METHOD:PUBLISH
X-WR-CALNAME:Godoy Cruz
X-ORIGINAL-URL:https://www.godoycruz.sisargentina.com
X-WR-CALDESC:Events for Godoy Cruz
BEGIN:VEVENT
DTSTART;TZID=UTC-3:20240608T110000
DTEND;TZID=UTC-3:20240608T220000
DTSTAMP:20260423T082905
CREATED:20240606T132912Z
LAST-MODIFIED:20240606T132912Z
UID:111146-1717844400-1717884000@www.godoycruz.sisargentina.com
SUMMARY:WOW Mujeres Activas 2024
DESCRIPTION:[vc_row][vc_column][vc_column_text]Godoy Cruz es la sede de la 2º edición de este encuentro que promueve los emprendimientos\, con profesionales de diferentes rubros. \nWOW está pensado para emprendedoras con potencial para hacer crecer sus negocios\, a través de diferentes herramientas que abarcan desde el desarrollo personal; así como el mundo tecnológico\, finanzas y marketing. \nEspectáculos musicales; charlas; feria\, stands; sorteos. \nMúsica en vivo: Jazz Board Trio. \nEntrada gratuita. Inscripción previa en https://bit.ly/EntradaWowArizu[/vc_column_text][/vc_column][/vc_row][vc_row][vc_column][vc_single_image image=»111143″ img_size=»full»][/vc_column][/vc_row] \n
URL:https://www.godoycruz.sisargentina.com/evento/wow-mujeres-activas-2024/
ATTACH;FMTTYPE=image/jpeg:https://www.godoycruz.sisargentina.com/wp-content/uploads/2024/06/445473861_781752950810283_6112807308324380864_n.jpg
END:VEVENT
BEGIN:VEVENT
DTSTART;TZID=UTC-3:20240608T210000
DTEND;TZID=UTC-3:20240608T210000
DTSTAMP:20260423T082905
CREATED:20240604T141508Z
LAST-MODIFIED:20240606T125110Z
UID:111077-1717880400-1717880400@www.godoycruz.sisargentina.com
SUMMARY:Entre comadres y compadres
DESCRIPTION:[vc_row][vc_column][vc_column_text]La noche se verá envuelta por el talento de importantes artistas de Mendoza\, en una verdadera fiesta donde se encontrarán voces e instrumentos para interpretar canciones de raíz folklórica y latinoamericana. \nLa cartelera ofrecerá diferentes expresiones que engalanan la cultura local. \nArtistas: Matria Cuyana y Dúo Nuevo Cuyo. \nEntradas: $3000. \nReservas al 261- 4661157 o se podrán adquirir en la sala (Tomba 54\, Godoy Cruz) la misma noche de la función.[/vc_column_text][/vc_column][/vc_row][vc_row][vc_column][vc_single_image image=»111072″ img_size=»full»][/vc_column][/vc_row] \n
URL:https://www.godoycruz.sisargentina.com/evento/entre-comadres-y-compadres1/
LOCATION:Tomba 54\, Godoy Cruz\, Mendoza\, 5501\, Argentina
ATTACH;FMTTYPE=image/jpeg:https://www.godoycruz.sisargentina.com/wp-content/uploads/2024/06/matria-cuyana-ok-web.jpg
END:VEVENT
BEGIN:VEVENT
DTSTART;TZID=UTC-3:20240608T213000
DTEND;TZID=UTC-3:20240608T213000
DTSTAMP:20260423T082905
CREATED:20240523T171847Z
LAST-MODIFIED:20240523T171847Z
UID:110618-1717882200-1717882200@www.godoycruz.sisargentina.com
SUMMARY:Habitación Macbeth
DESCRIPTION:[vc_row][vc_column][vc_column_text]La obra de teatro argentino más premiada\, inicia este año su 4° temporada consecutiva\, después de más de 350 funciones y más de 100.000 espectadores que la ovacionaron en todo el país y en el exterior. \nA través del cuerpo de un actor (encontrado en la fosa del teatro)\, las Brujas Fatídicas del páramo de huesos representarán la tragedia Habitación Macbeth\, para el goce\, deleite\, y catarsis metafísica de nuestra majestad creadora Hécate\, vulgarmente conocida como El Público. \nActuación y dirección: Pompeyo Audivert. Versión para un actor sobre la obra «Macbeth»\, de W. Shakespeare. \nMúsica original: Claudio Peña. \nLas entradas se pueden obtener vía online en bit.ly/EntradasHabitaciónMacbeth o en la boletería del teatro (Colón 27\, Godoy Cruz)\, de lunes a viernes de 9 a 16hs.[/vc_column_text][/vc_column][/vc_row][vc_row][vc_column][vc_single_image image=»110622″ img_size=»full»][/vc_column][/vc_row] \n
URL:https://www.godoycruz.sisargentina.com/evento/habitacion-macbeth/
LOCATION:Colón 27\, Godoy Cruz\, Mendoza\, 5501\, Argentina
ATTACH;FMTTYPE=image/jpeg:https://www.godoycruz.sisargentina.com/wp-content/uploads/2024/05/MDIA-17f18ad5.jpg
END:VEVENT
END:VCALENDAR