BEGIN:VCALENDAR
VERSION:2.0
PRODID:-//Godoy Cruz - ECPv4.5.8.1//NONSGML v1.0//EN
CALSCALE:GREGORIAN
METHOD:PUBLISH
X-WR-CALNAME:Godoy Cruz
X-ORIGINAL-URL:https://www.godoycruz.sisargentina.com
X-WR-CALDESC:Events for Godoy Cruz
BEGIN:VEVENT
DTSTART;TZID=UTC-3:20240503T213000
DTEND;TZID=UTC-3:20240503T213000
DTSTAMP:20260425T201606
CREATED:20240430T134318Z
LAST-MODIFIED:20240502T165756Z
UID:109511-1714771800-1714771800@www.godoycruz.sisargentina.com
SUMMARY:Yoya Jofré en Banda
DESCRIPTION:[vc_row][vc_column][vc_column_text]El cantautor llega a la B+M Manuel Belgrano\, con una banda de grandes músicos y en su rol solista. \nLas canciones estarán nutridas por un cuarteto integrado por Lucas Morales (bajo); Ivan Mateo (batería); Juan Farré (teclados) y el propio Jofré en guitarra y voz. \nEl show también transitará la impronta intimista que logra el artista al cantar sólo con su guitarra. \nLas entradas se pueden adquirir comunicándose al 2615394731. \nValor: $3000.[/vc_column_text][/vc_column][/vc_row][vc_row][vc_column][vc_single_image image=»109605″ img_size=»full»][/vc_column][/vc_row] \n
URL:https://www.godoycruz.sisargentina.com/evento/yoya-jofre-banda1/
LOCATION:Tomba 54\, Godoy Cruz\, Mendoza\, 5501\, Argentina
ATTACH;FMTTYPE=image/jpeg:https://www.godoycruz.sisargentina.com/wp-content/uploads/2024/04/441028145_761546916164220_3518282907732809235_n.jpg
END:VEVENT
BEGIN:VEVENT
DTSTART;TZID=UTC-3:20240503T213000
DTEND;TZID=UTC-3:20240503T213000
DTSTAMP:20260425T201606
CREATED:20240430T142215Z
LAST-MODIFIED:20240502T132030Z
UID:109519-1714771800-1714771800@www.godoycruz.sisargentina.com
SUMMARY:Los Establos de su Majestad
DESCRIPTION:[vc_row][vc_column][vc_column_text]Desde un registro de parodia con elementos del grotesco y el absurdo\, la obra pone en escena uno de los hechos históricos más significativos de nuestro país: La Campaña del Desierto. \nLa puesta en escena se apoya en la metáfora de “Un país estancia y sus hijos del cuero”\, como expresa el mismo texto: «De la vaca saldrá la alta carnesía\, la pequeña carnesía\, y aquellos que disputaremos las tripas a los perros». \nCoproducción del Teatro Nacional Cervantes\, con el auspicio de la Municipalidad de Godoy Cruz. \nActuación: Claudia Racconto\,Sandra Viggiani\,Pablo Diaz\,Matías González\,Fernando Mancuso\, Daniel Encinas. \nAdaptación: Sonnia de Monte. \nDirección General: Víctor Arrojo \nPodés comprar tus entradas online en https://bit.ly/EstablosDeSuMajestad o en la boletería del teatro (Colón 27\, Godoy Cruz)\, de lunes a viernes\, de 9 a 16H. \n[/vc_column_text][/vc_column][/vc_row][vc_row][vc_column][vc_single_image image=»109575″ img_size=»full»][/vc_column][/vc_row] \n
URL:https://www.godoycruz.sisargentina.com/evento/los-establos-majestad1/
LOCATION:Colón 27\, Godoy Cruz\, Mendoza\, 5501\, Argentina
ATTACH;FMTTYPE=image/jpeg:https://www.godoycruz.sisargentina.com/wp-content/uploads/2024/04/440952651_760309909621254_7244423342657571655_n.jpg
END:VEVENT
END:VCALENDAR