BEGIN:VCALENDAR
VERSION:2.0
PRODID:-//Godoy Cruz - ECPv4.5.8.1//NONSGML v1.0//EN
CALSCALE:GREGORIAN
METHOD:PUBLISH
X-WR-CALNAME:Godoy Cruz
X-ORIGINAL-URL:https://www.godoycruz.sisargentina.com
X-WR-CALDESC:Events for Godoy Cruz
BEGIN:VEVENT
DTSTART;TZID=UTC-3:20240426T200000
DTEND;TZID=UTC-3:20240426T200000
DTSTAMP:20260423T184319
CREATED:20240412T171712Z
LAST-MODIFIED:20240412T171712Z
UID:108917-1714161600-1714161600@www.godoycruz.sisargentina.com
SUMMARY:Madres
DESCRIPTION:[vc_row][vc_column][vc_column_text]La comedia más exitosa y divertida se despide de la cartelera. \nCuatro madres y amigas bien distintas y miles de maneras de vivir la maternidad. \nMadres es una obra actuada\, dirigida y creada íntegramente por mujeres. \nGanadora del premio Estrella de Mar a «Mejor Comedia Musical» y nominada a 3 premio ACE. \nProtagonizada por: Sabrina Garciarena\, Viviana Puerta\, Andrea Lovera y Manuela Perin. \nPodés comprar tus entradas online en https://bit.ly/MadresGiraDespedida o en la boletería del teatro (Colón 27\, Godoy Cruz)\, de lunes a viernes\, de 9 a 16H.[/vc_column_text][/vc_column][/vc_row][vc_row][vc_column][vc_single_image image=»108920″ img_size=»full»][/vc_column][/vc_row] \n
URL:https://www.godoycruz.sisargentina.com/evento/madres-2/
LOCATION:Colón 27\, Godoy Cruz\, Mendoza\, 5501\, Argentina
ATTACH;FMTTYPE=image/jpeg:https://www.godoycruz.sisargentina.com/wp-content/uploads/2024/04/WhatsApp-Image-2024-04-12-at-2.08.12-PM.jpeg
END:VEVENT
BEGIN:VEVENT
DTSTART;TZID=UTC-3:20240426T220000
DTEND;TZID=UTC-3:20240426T220000
DTSTAMP:20260423T184319
CREATED:20240424T162834Z
LAST-MODIFIED:20240424T162834Z
UID:109291-1714168800-1714168800@www.godoycruz.sisargentina.com
SUMMARY:San Vicente Jazz Club
DESCRIPTION:[vc_row][vc_column][vc_column_text]El San Vicente Jazz Club se prepara para llevar recitales de lujo a los bares de Godoy Cruz. \nLos músicos y bandas elegidas para esta recorrida nocturna pondrán de manifiesto diferentes tendencias sonoras. \nEntrada gratuita. \nLa Grilla: \nCasa Tano La Capannina Ristro (Perito Moreno 1221). \nMúsicos: Duo Cuchiarelli- Bianchinelli.[/vc_column_text][/vc_column][/vc_row][vc_row][vc_column][vc_single_image image=»109293″ img_size=»full»][/vc_column][/vc_row] \n
URL:https://www.godoycruz.sisargentina.com/evento/san-vicente-jazz-club-2/
LOCATION:Mendoza
ATTACH;FMTTYPE=image/jpeg:https://www.godoycruz.sisargentina.com/wp-content/uploads/2024/04/WhatsApp-Image-2024-04-24-at-12.53.13-PM.jpeg
END:VEVENT
BEGIN:VEVENT
DTSTART;TZID=UTC-3:20240426T220000
DTEND;TZID=UTC-3:20240426T220000
DTSTAMP:20260423T184319
CREATED:20240424T163553Z
LAST-MODIFIED:20240424T163553Z
UID:109298-1714168800-1714168800@www.godoycruz.sisargentina.com
SUMMARY:San Vicente Jazz Club
DESCRIPTION:[vc_row][vc_column][vc_column_text]El San Vicente Jazz Club se prepara para llevar recitales de lujo a los bares de Godoy Cruz. \nLos músicos y bandas elegidas para esta recorrida nocturna pondrán de manifiesto diferentes tendencias sonoras. \nEntrada gratuita. \nLa Grilla: \nCafé Bar Venecia (San Martin esq. Leguizamon). \nMúsicos: Les Fous.[/vc_column_text][/vc_column][/vc_row][vc_row][vc_column][vc_single_image image=»109293″ img_size=»full»][/vc_column][/vc_row] \n
URL:https://www.godoycruz.sisargentina.com/evento/san-vicente-jazz-club-3/
LOCATION:Mendoza
ATTACH;FMTTYPE=image/jpeg:https://www.godoycruz.sisargentina.com/wp-content/uploads/2024/04/WhatsApp-Image-2024-04-24-at-12.53.13-PM.jpeg
END:VEVENT
END:VCALENDAR