BEGIN:VCALENDAR
VERSION:2.0
PRODID:-//Godoy Cruz - ECPv4.5.8.1//NONSGML v1.0//EN
CALSCALE:GREGORIAN
METHOD:PUBLISH
X-WR-CALNAME:Godoy Cruz
X-ORIGINAL-URL:https://www.godoycruz.sisargentina.com
X-WR-CALDESC:Events for Godoy Cruz
BEGIN:VEVENT
DTSTART;TZID=UTC-3:20240413T150000
DTEND;TZID=UTC-3:20240413T220000
DTSTAMP:20260422T215756
CREATED:20240410T133336Z
LAST-MODIFIED:20240410T133336Z
UID:108802-1713020400-1713045600@www.godoycruz.sisargentina.com
SUMMARY:8º Encuentro de Hobbistas y Coleccionistas
DESCRIPTION:[vc_row][vc_column][vc_column_text]Te invitamos a ser parte de esta mega exposición de numerosos clubes de coleccionistas y aficionados en un paseo para toda la familia. \nTambién habrá Foodtrucks y música en vivo con Cassette Club del Retro. \nPodés encontrarte objetos relacionados al modelismo; sellos postales; monedas y medallas; autos y todo tipo de vehículos de distintas escalas y épocas; Comics\, figuras de acción\, Legos y Funkos\, entre otros. \nEntrada libre y gratuita.[/vc_column_text][/vc_column][/vc_row][vc_row][vc_column][vc_single_image image=»108804″ img_size=»full»][/vc_column][/vc_row] \n
URL:https://www.godoycruz.sisargentina.com/evento/8o-encuentro-hobbistas-coleccionistas/
ATTACH;FMTTYPE=image/jpeg:https://www.godoycruz.sisargentina.com/wp-content/uploads/2024/04/434968119_747438594241719_5536105872831724621_n.jpg
END:VEVENT
BEGIN:VEVENT
DTSTART;TZID=UTC-3:20240413T210000
DTEND;TZID=UTC-3:20240413T210000
DTSTAMP:20260422T215756
CREATED:20240409T153625Z
LAST-MODIFIED:20240409T153625Z
UID:108756-1713042000-1713042000@www.godoycruz.sisargentina.com
SUMMARY:The Mode - Depeche Mode Experience
DESCRIPTION:[vc_row][vc_column][vc_column_text]The Mode es la banda tributo a Depeche Mode más importante de Latinoamérica y trae al escenario lo mejor de la banda inglesa. \nCon más de 10 años de trayectoria\, The Mode recorre obras clásicas y las canciones nuevas de su reciente disco. \nRecorrió países importantes de América Latina como Chile\, Paraguay\, Colombia y Perú. En su primera y exitosa gira europea\, el proyecto brindó shows en Roma\, Madrid\, Valencia y Barcelona con entradas agotadas. \nComprá tus entradas de manera online en https://bit.ly/DepecheModeExperience o en la boletería del Teatro (Colón 27\, Godoy Cruz)\, de lunes a viernes\, de 9 a 16H.[/vc_column_text][/vc_column][/vc_row][vc_row][vc_column][vc_single_image image=»108757″ img_size=»full»][/vc_column][/vc_row] \n
URL:https://www.godoycruz.sisargentina.com/evento/the-mode-depeche-mode-experience/
LOCATION:Colón 27\, Godoy Cruz\, Mendoza\, 5501\, Argentina
ATTACH;FMTTYPE=image/jpeg:https://www.godoycruz.sisargentina.com/wp-content/uploads/2024/04/THEMODE-01-1.jpg
END:VEVENT
END:VCALENDAR