BEGIN:VCALENDAR
VERSION:2.0
PRODID:-//Godoy Cruz - ECPv4.5.8.1//NONSGML v1.0//EN
CALSCALE:GREGORIAN
METHOD:PUBLISH
X-WR-CALNAME:Godoy Cruz
X-ORIGINAL-URL:https://www.godoycruz.sisargentina.com
X-WR-CALDESC:Events for Godoy Cruz
BEGIN:VEVENT
DTSTART;TZID=UTC-3:20240211T193000
DTEND;TZID=UTC-3:20240211T193000
DTSTAMP:20260420T151034
CREATED:20240208T165428Z
LAST-MODIFIED:20240208T165428Z
UID:107265-1707679800-1707679800@www.godoycruz.sisargentina.com
SUMMARY:Títeres en el Barrio
DESCRIPTION:[vc_row][vc_column][vc_column_text]Reconocidos elencos actuarán en las tardes de verano\, con obras para que disfrute toda la familia. \nObra: «La familia Kikiriki»\, Elenco: Ofelia\, títeres con alma. \nParque Margarita M. de Torres. \nEntrada gratuita.[/vc_column_text][/vc_column][/vc_row][vc_row][vc_column][vc_single_image image=»107266″ img_size=»full»][/vc_column][/vc_row] \n
URL:https://www.godoycruz.sisargentina.com/evento/titeres-en-el-barrio-8/
ATTACH;FMTTYPE=image/jpeg:https://www.godoycruz.sisargentina.com/wp-content/uploads/2024/02/WhatsApp-Image-2024-02-08-at-11.09.01-AM-1.jpeg
END:VEVENT
BEGIN:VEVENT
DTSTART;TZID=UTC-3:20240211T200000
DTEND;TZID=UTC-3:20240211T200000
DTSTAMP:20260420T151034
CREATED:20240207T163046Z
LAST-MODIFIED:20240207T163046Z
UID:107215-1707681600-1707681600@www.godoycruz.sisargentina.com
SUMMARY:Vinito Club
DESCRIPTION:[vc_row][vc_column][vc_column_text]Vuelve esta gran feria de vinos\, que se instala en el Espacio Arizu. \nEsta edición apunta a poner el acento en la amplia diversidad de los vinos que se elaboran en nuestra provincia. \nHabrá degustaciones de diferentes bodegas\, espectáculos musicales en vivo y Foodtrucks. \nArtistas: Javier Casetti\, Consuelo and the Cats\, Jazzboard Trío. \nAdquirí tu entrada online gratuita en entradaweb.com \nValor COPA+ DEGUSTACIÓN:$3000.[/vc_column_text][/vc_column][/vc_row][vc_row][vc_column][vc_single_image image=»107213″ img_size=»full»][/vc_column][/vc_row] \n
URL:https://www.godoycruz.sisargentina.com/evento/vinito-club-4/
ATTACH;FMTTYPE=image/jpeg:https://www.godoycruz.sisargentina.com/wp-content/uploads/2024/02/WhatsApp-Image-2024-02-07-at-12.18.09-PM.jpeg
END:VEVENT
BEGIN:VEVENT
DTSTART;TZID=UTC-3:20240211T210000
DTEND;TZID=UTC-3:20240211T210000
DTSTAMP:20260420T151034
CREATED:20240209T182936Z
LAST-MODIFIED:20240209T182936Z
UID:107295-1707685200-1707685200@www.godoycruz.sisargentina.com
SUMMARY:Milonga en la Plaza
DESCRIPTION:[vc_row][vc_column][vc_column_text]Grandes artistas del tango llegan a la plaza de Godoy Cruz. \n  \nClase abierta con Papirusa Tango. \nMúsica en vivo con Varón Alvarez y Antonia Mucci. \nMusicaliza: «Las Platenses» \nEntrada gratuita.[/vc_column_text][/vc_column][/vc_row][vc_row][vc_column][vc_single_image image=»107298″ img_size=»full»][/vc_column][/vc_row] \n
URL:https://www.godoycruz.sisargentina.com/evento/milonga-la-plaza-12/
ATTACH;FMTTYPE=image/jpeg:https://www.godoycruz.sisargentina.com/wp-content/uploads/2024/02/WhatsApp-Image-2024-02-09-at-11.58.35-AM.jpeg
END:VEVENT
BEGIN:VEVENT
DTSTART;TZID=UTC-3:20240211T213000
DTEND;TZID=UTC-3:20240211T213000
DTSTAMP:20260420T151034
CREATED:20240208T150713Z
LAST-MODIFIED:20240208T150713Z
UID:107243-1707687000-1707687000@www.godoycruz.sisargentina.com
SUMMARY:Teatro Lambe Lambe
DESCRIPTION:[vc_row][vc_column][vc_column_text]La plaza mayor se convierte en una sala teatral a cielo abierto\, con aventuras para espiar. \nNumerosos artistas traen cajas\, que cuentan historias protagonizadas por títeres a pequeña escala. \nProgramación: \nTíteres de Pepino Presenta “Un pobre circo”. \nGabriela Clavo y Canela Presenta “Bladimir”. \nGrupo del Sin Fin Presenta “El regalo”. \nBurbujas Presenta “De mitos y sueños”. \nChinchufleta Presenta “Mi pueblo”. \nLa Adri Presenta “Certezas”. \nEntrada gratuita. \n[/vc_column_text][/vc_column][/vc_row][vc_row][vc_column][vc_single_image image=»107244″ img_size=»full»][/vc_column][/vc_row] \n
URL:https://www.godoycruz.sisargentina.com/evento/teatro-lambe-lambe-2/
ATTACH;FMTTYPE=image/jpeg:https://www.godoycruz.sisargentina.com/wp-content/uploads/2024/02/425768193_711921081026295_5566791834919604983_n.jpg
END:VEVENT
END:VCALENDAR