BEGIN:VCALENDAR
VERSION:2.0
PRODID:-//Godoy Cruz - ECPv4.5.8.1//NONSGML v1.0//EN
CALSCALE:GREGORIAN
METHOD:PUBLISH
X-WR-CALNAME:Godoy Cruz
X-ORIGINAL-URL:https://www.godoycruz.sisargentina.com
X-WR-CALDESC:Events for Godoy Cruz
BEGIN:VEVENT
DTSTART;TZID=UTC-3:20240204T190000
DTEND;TZID=UTC-3:20240204T190000
DTSTAMP:20260420T165354
CREATED:20240201T175123Z
LAST-MODIFIED:20240201T175123Z
UID:107120-1707073200-1707073200@www.godoycruz.sisargentina.com
SUMMARY:El Gin y el Jazz
DESCRIPTION:[vc_row][vc_column][vc_column_text]Llega este nuevo festival en el que se vivirán noches con una combinación única de sabor y ritmo en el Espacio Arizu. \nEl público podrá disfrutar de variadas marcas de Gin y una amplia cartelera musical. \nConciertos en vivo: Les Fous y Brassass. \nEntrada gratuita.[/vc_column_text][/vc_column][/vc_row][vc_row][vc_column][vc_single_image image=»107118″ img_size=»full»][/vc_column][/vc_row] \n
URL:https://www.godoycruz.sisargentina.com/evento/el-gin-y-el-jazz-2/
ATTACH;FMTTYPE=image/jpeg:https://www.godoycruz.sisargentina.com/wp-content/uploads/2024/02/424780585_708126891405714_3578828906273688026_n.jpg
END:VEVENT
BEGIN:VEVENT
DTSTART;TZID=UTC-3:20240204T193000
DTEND;TZID=UTC-3:20240204T193000
DTSTAMP:20260420T165354
CREATED:20240201T154132Z
LAST-MODIFIED:20240201T154132Z
UID:107099-1707075000-1707075000@www.godoycruz.sisargentina.com
SUMMARY:Títeres en el Barrio
DESCRIPTION:[vc_row][vc_column][vc_column_text]Reconocidos elencos actuarán en las tardes de verano\, con obras para que disfrute toda la familia. \nObra: «Locas margaritas»\, Elenco: Gabriela\, clavo y canela. \nPlaza Remedios de Escalada de San Martín\, Bº Parque. \nEntrada gratuita.[/vc_column_text][/vc_column][/vc_row][vc_row][vc_column][vc_single_image image=»107100″ img_size=»full»][/vc_column][/vc_row] \n
URL:https://www.godoycruz.sisargentina.com/evento/titeres-en-el-barrio-6/
ATTACH;FMTTYPE=image/jpeg:https://www.godoycruz.sisargentina.com/wp-content/uploads/2024/02/WhatsApp-Image-2024-02-01-at-10.41.02-AM.jpeg
END:VEVENT
BEGIN:VEVENT
DTSTART;TZID=UTC-3:20240204T200000
DTEND;TZID=UTC-3:20240204T200000
DTSTAMP:20260420T165354
CREATED:20240131T163441Z
LAST-MODIFIED:20240131T163441Z
UID:107048-1707076800-1707076800@www.godoycruz.sisargentina.com
SUMMARY:Inauguración Muestra "Homenaje a Ángel Castro"
DESCRIPTION:[vc_row][vc_column][vc_column_text]Apertura de la muestra fotográfica en recuerdo a Ángel Castro\, quien dejó retratos icónicos de la escena artística mendocina. \nSe exhibirán 75 obras del apodado «Fotografo del rock»\, que capturó imágenes de grandes artistas provinciales y nacionales. \nLa exposición se podrá visitar hasta el día 29 de febrero. \nEntrada gratuita.[/vc_column_text][/vc_column][/vc_row][vc_row][vc_column][vc_single_image image=»107049″ img_size=»full»][/vc_column][/vc_row] \n
URL:https://www.godoycruz.sisargentina.com/evento/inauguracion-muestra-homenaje-angel-castro/
ATTACH;FMTTYPE=image/jpeg:https://www.godoycruz.sisargentina.com/wp-content/uploads/2024/01/423236068_708167114735025_6589005923839741981_n.jpg
END:VEVENT
BEGIN:VEVENT
DTSTART;TZID=UTC-3:20240204T210000
DTEND;TZID=UTC-3:20240204T210000
DTSTAMP:20260420T165354
CREATED:20240201T151643Z
LAST-MODIFIED:20240201T151643Z
UID:107092-1707080400-1707080400@www.godoycruz.sisargentina.com
SUMMARY:Milonga en la Plaza
DESCRIPTION:[vc_row][vc_column][vc_column_text]Grandes artistas del tango llegan a la plaza de Godoy Cruz. \nMúsica en vivo con Dúo de Oro Tango. \nEspectáculo de baile: MD tango (Maipú)\, bajo la dirección de Carola Sosa y Keli Cepeda. \nMusicaliza: Che Popeye Milonga. \nLocutor: Ángel Bloise. \nEntrada gratuita.[/vc_column_text][/vc_column][/vc_row][vc_row][vc_column][vc_single_image image=»107093″ img_size=»full»][/vc_column][/vc_row] \n
URL:https://www.godoycruz.sisargentina.com/evento/milonga-la-plaza-10/
ATTACH;FMTTYPE=image/jpeg:https://www.godoycruz.sisargentina.com/wp-content/uploads/2024/02/WhatsApp-Image-2024-02-01-at-10.31.17-AM.jpeg
END:VEVENT
END:VCALENDAR