BEGIN:VCALENDAR
VERSION:2.0
PRODID:-//Godoy Cruz - ECPv4.5.8.1//NONSGML v1.0//EN
CALSCALE:GREGORIAN
METHOD:PUBLISH
X-WR-CALNAME:Godoy Cruz
X-ORIGINAL-URL:https://www.godoycruz.sisargentina.com
X-WR-CALDESC:Events for Godoy Cruz
BEGIN:VEVENT
DTSTART;TZID=UTC-3:20231217T180000
DTEND;TZID=UTC-3:20231217T180000
DTSTAMP:20260423T094400
CREATED:20231214T171327Z
LAST-MODIFIED:20231214T171327Z
UID:106073-1702836000-1702836000@www.godoycruz.sisargentina.com
SUMMARY:Flor de Feria en Planta Uno
DESCRIPTION:[vc_row][vc_column][vc_column_text]Anticipate a la Navidad\, con cápsulas de diseños y productos de emprendedores\, fabricantes\, artistas y diseñadores. Se suma una gran feria americana. \nTambién habrá propuestas gastronómicas con promociones especiales y la música en vivo del Club Cassette del Retro. \nEntrada gratuita. Se solicita la colaboración con un alimento no perecedero\, a beneficio de Fundavita y el Banco de Alimentos Mendoza.[/vc_column_text][/vc_column][/vc_row][vc_row][vc_column][vc_single_image image=»106070″ img_size=»full»][/vc_column][/vc_row] \n
URL:https://www.godoycruz.sisargentina.com/evento/flor-feria-planta-uno-5/
ATTACH;FMTTYPE=image/jpeg:https://www.godoycruz.sisargentina.com/wp-content/uploads/2023/12/WhatsApp-Image-2023-12-14-at-11.28.22-AM.jpeg
END:VEVENT
BEGIN:VEVENT
DTSTART;TZID=UTC-3:20231217T203000
DTEND;TZID=UTC-3:20231217T203000
DTSTAMP:20260423T094400
CREATED:20231215T171718Z
LAST-MODIFIED:20231215T171718Z
UID:106109-1702845000-1702845000@www.godoycruz.sisargentina.com
SUMMARY:Bach al Malbec
DESCRIPTION:[vc_row][vc_column][vc_column_text]El Coro Universitario de Mendoza cierra su Ciclo de Música Barroca junto al grupo instrumental Violetta Club. \nEl concierto pintará un paisaje sonoro con piezas del Barroco Alemán y estará dedicado a la obra de Johann Sebastian Bach. \nEl plato fuerte de la noche será la Cantata 150 “Nach dir\, Herr\, verlanget mich” (Hacia ti\, Señor\, yo me elevo)\, que será escuchada por primera vez en Mendoza. \nTambién\, el espíritu navideño se hará presente con algunos motivos alegóricos. \nComprá tu entrada online en https://bit.ly/EntradasBachAlMalbec[/vc_column_text][/vc_column][/vc_row][vc_row][vc_column][vc_single_image image=»106108″ img_size=»full»][/vc_column][/vc_row] \n
URL:https://www.godoycruz.sisargentina.com/evento/bach-al-malbec/
ATTACH;FMTTYPE=image/jpeg:https://www.godoycruz.sisargentina.com/wp-content/uploads/2023/12/Facebook-cuadrado.jpg
END:VEVENT
END:VCALENDAR