BEGIN:VCALENDAR
VERSION:2.0
PRODID:-//Godoy Cruz - ECPv4.5.8.1//NONSGML v1.0//EN
CALSCALE:GREGORIAN
METHOD:PUBLISH
X-WR-CALNAME:Godoy Cruz
X-ORIGINAL-URL:https://www.godoycruz.sisargentina.com
X-WR-CALDESC:Events for Godoy Cruz
BEGIN:VEVENT
DTSTART;TZID=UTC-3:20231203T180000
DTEND;TZID=UTC-3:20231203T180000
DTSTAMP:20260422T100313
CREATED:20231127T142700Z
LAST-MODIFIED:20231127T142700Z
UID:105373-1701626400-1701626400@www.godoycruz.sisargentina.com
SUMMARY:16º Fiesta Provincial de la Cerveza
DESCRIPTION:[vc_row][vc_column][vc_column_text]Llega una nueva edición de la fiesta musical y gastronómica más importante del oeste argentino. \nBandas locales y nacionales en vivo\, foodtrucks\, cervecerías y mucho más! \nVenta online: www.fiestacervezagc.com.ar \nVenta presencial: boletería del Teatro Plaza (Colón 27\, Godoy Cruz).\nHorario de atención: de lunes a sábado\, de 9 a 18 H. \nMáximo de 4 entradas por persona. \nLa Grilla: \nDomingo 3: MANSO DREAMIN»; SELVA BLANCA; SAM; LA FUGITIVA; SPAGHETTI WESTERN; CABALLEROS DE LA QUEMA; LA VELA PUERCA.[/vc_column_text][/vc_column][/vc_row][vc_row][vc_column][vc_single_image image=»105374″ img_size=»full»][/vc_column][/vc_row] \n
URL:https://www.godoycruz.sisargentina.com/evento/16o-fiesta-provincial-la-cerveza-3/
ATTACH;FMTTYPE=image/jpeg:https://www.godoycruz.sisargentina.com/wp-content/uploads/2023/11/399805040_882683573218990_3420485566028200522_n.jpg
END:VEVENT
BEGIN:VEVENT
DTSTART;TZID=UTC-3:20231203T203000
DTEND;TZID=UTC-3:20231203T203000
DTSTAMP:20260422T100313
CREATED:20231122T162428Z
LAST-MODIFIED:20231122T162428Z
UID:105299-1701635400-1701635400@www.godoycruz.sisargentina.com
SUMMARY:Nacidos para el teatro
DESCRIPTION:[vc_row][vc_column][vc_column_text]Versión libre de «Seis Personajes en busca de un autor»\, de Luigi Pirandello. \nUna compañía teatral ensaya sin descanso una de las tantas comedias que ya han representado\, una y otra vez. La monotonía del trabajo agobia y aburre alcanzando niveles insospechados. \nHasta que un día\, en medio de un ensayo común y corriente\, irrumpen en la sala inesperadamente\, cinco seres extraños y algo fantasmales\, que parecen sacados de un libro\, y piden a gritos a un autor que les dé la vida. \nDirección general: Agustín Díaz. \nComprá tus entradas online en https://bit.ly/EntradasNacidosParaElTeatro[/vc_column_text][/vc_column][/vc_row][vc_row][vc_column][vc_single_image image=»105300″ img_size=»full»][/vc_column][/vc_row] \n
URL:https://www.godoycruz.sisargentina.com/evento/nacidos-para-el-teatro/
LOCATION:Tomba 54\, Godoy Cruz\, Mendoza\, 5501\, Argentina
ATTACH;FMTTYPE=image/jpeg:https://www.godoycruz.sisargentina.com/wp-content/uploads/2023/11/403621823_651288577191570_2189569140981475680_n.jpg
END:VEVENT
END:VCALENDAR