BEGIN:VCALENDAR
VERSION:2.0
PRODID:-//Godoy Cruz - ECPv4.5.8.1//NONSGML v1.0//EN
CALSCALE:GREGORIAN
METHOD:PUBLISH
X-WR-CALNAME:Godoy Cruz
X-ORIGINAL-URL:https://www.godoycruz.sisargentina.com
X-WR-CALDESC:Events for Godoy Cruz
BEGIN:VEVENT
DTSTART;TZID=UTC-3:20231110T190000
DTEND;TZID=UTC-3:20231110T190000
DTSTAMP:20260420T201536
CREATED:20231101T154744Z
LAST-MODIFIED:20231101T154744Z
UID:104822-1699642800-1699642800@www.godoycruz.sisargentina.com
SUMMARY:Fiesta Moladora Volumen V
DESCRIPTION:[vc_row][vc_column][vc_column_text]Se viene una explosión de adrenalina y sonidos. \nLa Moladora se apodera del escenario para sumergir al público en el trance del ritmo\, a través de un vibrante caudal energético. \nInvitados especiales y Foodtrucks de comidas y bebidas. \nArtistas: Bruno Pinto; Rodrigo Casavalle y La moladora. \nComprá tus entradas online en https://bit.ly/EntradasFiestaMoladoraV o en la taquilla de la sala la misma noche del show[/vc_column_text][/vc_column][/vc_row][vc_row][vc_column][vc_single_image image=»104824″ img_size=»full»][/vc_column][/vc_row] \n
URL:https://www.godoycruz.sisargentina.com/evento/fiesta-moladora-volumen-v/
ATTACH;FMTTYPE=image/jpeg:https://www.godoycruz.sisargentina.com/wp-content/uploads/2023/11/WhatsApp-Image-2023-10-25-at-6.42.50-PM.jpeg
END:VEVENT
BEGIN:VEVENT
DTSTART;TZID=UTC-3:20231110T210000
DTEND;TZID=UTC-3:20231110T210000
DTSTAMP:20260420T201536
CREATED:20231024T181923Z
LAST-MODIFIED:20231024T181923Z
UID:104569-1699650000-1699650000@www.godoycruz.sisargentina.com
SUMMARY:Vendimias Distritales de Godoy Cruz
DESCRIPTION:[vc_row][vc_column][vc_column_text]Acto central\, elección y coronación de la nueva reina distrital. \nEntrada gratuita. \nTrapiche. Título: “Vendimia con aires de tradición”. \nDirección: Fabián Quiroga.[/vc_column_text][/vc_column][/vc_row][vc_row][vc_column][vc_single_image image=»104570″ img_size=»full»][/vc_column][/vc_row] \n
URL:https://www.godoycruz.sisargentina.com/evento/vendimias-distritales-godoy-cruz-26/
ATTACH;FMTTYPE=image/jpeg:https://www.godoycruz.sisargentina.com/wp-content/uploads/2023/10/394297059_651924983793081_5251050171142140310_n.jpg
END:VEVENT
BEGIN:VEVENT
DTSTART;TZID=UTC-3:20231110T210000
DTEND;TZID=UTC-3:20231110T210000
DTSTAMP:20260420T201536
CREATED:20231107T150542Z
LAST-MODIFIED:20231107T150542Z
UID:104972-1699650000-1699650000@www.godoycruz.sisargentina.com
SUMMARY:Agenda Zero en Vivo
DESCRIPTION:[vc_row][vc_column][vc_column_text]Se viene la 4º fecha de la Agenda Zero en Vivo\, con recitales imperdibles de artistas mendocinos. \nPresentaciónes de la banda Mundos Cercanos y la cantante Rocío Barboza. \nEntradas anticipadas: $1500\, al alias revistazero.uala (una vez hecha la transferencia quedás automáticamente en la lista). \nTaquilla: $1800.[/vc_column_text][/vc_column][/vc_row][vc_row][vc_column][vc_single_image image=»104973″ img_size=»full»][/vc_column][/vc_row] \n
URL:https://www.godoycruz.sisargentina.com/evento/agenda-zero-vivo-4/
LOCATION:Colón 27\, Godoy Cruz\, Mendoza\, 5501\, Argentina
ATTACH;FMTTYPE=image/jpeg:https://www.godoycruz.sisargentina.com/wp-content/uploads/2023/11/WhatsApp-Image-2023-10-23-at-1.15.08-PM.jpeg
END:VEVENT
BEGIN:VEVENT
DTSTART;TZID=UTC-3:20231110T220000
DTEND;TZID=UTC-3:20231110T220000
DTSTAMP:20260420T201536
CREATED:20231103T152113Z
LAST-MODIFIED:20231103T152113Z
UID:104897-1699653600-1699653600@www.godoycruz.sisargentina.com
SUMMARY:El Pela Romero presenta #Basta de amores de mierda
DESCRIPTION:[vc_row][vc_column][vc_column_text]El aclamado escritor vuelve a Mendoza con su unipersonal y el 5º volumen de “Basta de amores de mierda”\, su nuevo libro. \nEs uno de los autores emergentes más leídos de los últimos años\, con más de 250 mil libros vendidos entre Argentina\, Chile\, Uruguay\, México y España. \nSus charlas llevan convocados más de 90 mil espectadores y\, en cada función aparecen las tragedias que conlleva el amor\, para aliviar el peso que traen el desamor\, los celos o la toxicidad en las relaciones. \nComprá tus entradas online en https://bit.ly/3Qyru09 o en la boletería del teatro (solo efectivo)\, de lunes a sábado de 9 a 18 hs.[/vc_column_text][/vc_column][/vc_row][vc_row][vc_column][vc_single_image image=»104899″ img_size=»full»][/vc_column][/vc_row] \n
URL:https://www.godoycruz.sisargentina.com/evento/pela-romero-presenta-basta-amores-mierda/
LOCATION:Colón 27\, Godoy Cruz\, Mendoza\, 5501\, Argentina
ATTACH;FMTTYPE=image/jpeg:https://www.godoycruz.sisargentina.com/wp-content/uploads/2023/11/397118012_669309858621176_946738288551555498_n.jpg
END:VEVENT
END:VCALENDAR