BEGIN:VCALENDAR
VERSION:2.0
PRODID:-//Godoy Cruz - ECPv4.5.8.1//NONSGML v1.0//EN
CALSCALE:GREGORIAN
METHOD:PUBLISH
X-WR-CALNAME:Godoy Cruz
X-ORIGINAL-URL:https://www.godoycruz.sisargentina.com
X-WR-CALDESC:Events for Godoy Cruz
BEGIN:VEVENT
DTSTART;TZID=UTC-3:20231014T120000
DTEND;TZID=UTC-3:20231014T210000
DTSTAMP:20260421T032751
CREATED:20231012T161510Z
LAST-MODIFIED:20231012T161510Z
UID:104309-1697284800-1697317200@www.godoycruz.sisargentina.com
SUMMARY:Flor de Feria en Planta Uno
DESCRIPTION:[vc_row][vc_column][vc_column_text]Se viene esta clásica feria\, con cápsulas de creadores y fabricantes\, para que los hacedores puedan mostrar sus diseños y el público puedan encontrar regalos para sus seres queridos. \nSe suma la tienda de moda circular. \nTambién habrá propuestas gastronómicas y la presentación de diferentes bandas y cantantes para musicalizar la tarde . \nArtista en vivo: Groovie Jam (19H). \nEntrada gratuita.[/vc_column_text][/vc_column][/vc_row][vc_row][vc_column][vc_single_image image=»104311″ img_size=»full»][/vc_column][/vc_row] \n
URL:https://www.godoycruz.sisargentina.com/evento/flor-feria-planta-uno-3/
ATTACH;FMTTYPE=image/jpeg:https://www.godoycruz.sisargentina.com/wp-content/uploads/2023/10/WhatsApp-Image-2023-10-12-at-10.23.11-AM.jpeg
END:VEVENT
BEGIN:VEVENT
DTSTART;TZID=UTC-3:20231014T150000
DTEND;TZID=UTC-3:20231014T150000
DTSTAMP:20260421T032751
CREATED:20231011T175939Z
LAST-MODIFIED:20231011T175939Z
UID:104263-1697295600-1697295600@www.godoycruz.sisargentina.com
SUMMARY:Día de la Madre
DESCRIPTION:[vc_row][vc_column][vc_column_text]El municipio celebra esta fecha tan especial en los polideportivos del departamento. \nBingo\, shows en vivo\, sorteos y más sorpresas. \nEntrada libre y gratuita.[/vc_column_text][/vc_column][/vc_row][vc_row][vc_column][vc_single_image image=»104264″ img_size=»full»][/vc_column][/vc_row] \n
URL:https://www.godoycruz.sisargentina.com/evento/dia-la-madre-4/
ATTACH;FMTTYPE=image/jpeg:https://www.godoycruz.sisargentina.com/wp-content/uploads/2023/10/387160033_646266794358900_7567213659962486252_n.jpg
END:VEVENT
BEGIN:VEVENT
DTSTART;TZID=UTC-3:20231014T150000
DTEND;TZID=UTC-3:20231014T150000
DTSTAMP:20260421T032751
CREATED:20231011T180826Z
LAST-MODIFIED:20231011T180826Z
UID:104268-1697295600-1697295600@www.godoycruz.sisargentina.com
SUMMARY:Día de la Madre
DESCRIPTION:[vc_row][vc_column][vc_column_text]El municipio celebra esta fecha tan especial en los polideportivos del departamento. \nShows en vivo\, sorteos y más sorpresas. \nEntrada libre y gratuita.[/vc_column_text][/vc_column][/vc_row][vc_row][vc_column][vc_single_image image=»104269″ img_size=»full»][/vc_column][/vc_row] \n
URL:https://www.godoycruz.sisargentina.com/evento/dia-la-madre-5/
ATTACH;FMTTYPE=image/jpeg:https://www.godoycruz.sisargentina.com/wp-content/uploads/2023/10/391738360_646266827692230_7896428920672657006_n.jpg
END:VEVENT
BEGIN:VEVENT
DTSTART;TZID=UTC-3:20231014T150000
DTEND;TZID=UTC-3:20231014T150000
DTSTAMP:20260421T032751
CREATED:20231011T181627Z
LAST-MODIFIED:20231011T181627Z
UID:104272-1697295600-1697295600@www.godoycruz.sisargentina.com
SUMMARY:Día de la Madre
DESCRIPTION:[vc_row][vc_column][vc_column_text]El municipio celebra esta fecha tan especial en los polideportivos del departamento. \nShows en vivo\, sorteos y más sorpresas. \nEntrada libre y gratuita.[/vc_column_text][/vc_column][/vc_row][vc_row][vc_column][vc_single_image image=»104273″ img_size=»full»][/vc_column][/vc_row] \n
URL:https://www.godoycruz.sisargentina.com/evento/dia-la-madre-6/
ATTACH;FMTTYPE=image/jpeg:https://www.godoycruz.sisargentina.com/wp-content/uploads/2023/10/387167845_646266854358894_5879794874447194866_n.jpg
END:VEVENT
BEGIN:VEVENT
DTSTART;TZID=UTC-3:20231014T200000
DTEND;TZID=UTC-3:20231014T200000
DTSTAMP:20260421T032751
CREATED:20231012T142407Z
LAST-MODIFIED:20231012T142407Z
UID:104283-1697313600-1697313600@www.godoycruz.sisargentina.com
SUMMARY:7° Festival CONTAR PARA QUE OCURRA
DESCRIPTION:[vc_row][vc_column][vc_column_text]Diversas expresiones artísticas se llevarán a cabo en nuestra provincia con el desarrollo de este festival. \nEl objetivo es promover y difundir la obra de la siempre recordada escritora Liliana Bodoc\, con diferentes puestas en escena que abarcan marionetas\, narración\, títeres y obras de teatro. \nEntrada gratuita (por orden de llegada). \nObra: “Memorias del viento” (Mendoza). \nIntervención: “Lluvia de palabras”.[/vc_column_text][/vc_column][/vc_row][vc_row][vc_column][vc_single_image image=»104284″ img_size=»full»][/vc_column][/vc_row] \n
URL:https://www.godoycruz.sisargentina.com/evento/7-festival-contar-ocurra-2/
ATTACH;FMTTYPE=image/jpeg:https://www.godoycruz.sisargentina.com/wp-content/uploads/2023/10/387063762_645651417753771_628423921354067938_n.jpg
END:VEVENT
BEGIN:VEVENT
DTSTART;TZID=UTC-3:20231014T210000
DTEND;TZID=UTC-3:20231014T210000
DTSTAMP:20260421T032751
CREATED:20231009T142127Z
LAST-MODIFIED:20231009T142127Z
UID:104094-1697317200-1697317200@www.godoycruz.sisargentina.com
SUMMARY:Cecilia Milone presenta "Master Tango"
DESCRIPTION:[vc_row][vc_column][vc_column_text]La destacada actriz y cantante propone un paseo contado a través de la música\, con una cuidadosa selección de tangos muy populares y textos llenos de humor y nostalgia. \nLas coreografías de Daniela Inglese pasan por todos los estilos\, desde el tango salón al tango show. \nLibro y Dirección General: Cecilia Milone. \nCoreografías: Daniela Inglese. \nElenco: Cecilia Milone; María Belen Di Giorgio. Daniela Inglese y Ricardo Albornoz (Campeones metropolitanos de tango). \nComprá tus entradas online en https://bit.ly/EntradasMasterTango o en la boletería del teatro\, de lunes a sábado de 9 a 18 hs. \n[/vc_column_text][/vc_column][/vc_row][vc_row][vc_column][vc_single_image image=»104095″ img_size=»full»][/vc_column][/vc_row] \n
URL:https://www.godoycruz.sisargentina.com/evento/cecilia-milone-presenta-master-tango/
LOCATION:Colón 27\, Godoy Cruz\, Mendoza\, 5501\, Argentina
ATTACH;FMTTYPE=image/jpeg:https://www.godoycruz.sisargentina.com/wp-content/uploads/2023/10/385433912_1038492830927998_8514417359264521456_n.jpg
END:VEVENT
BEGIN:VEVENT
DTSTART;TZID=UTC-3:20231014T210000
DTEND;TZID=UTC-3:20231014T210000
DTSTAMP:20260421T032751
CREATED:20231010T173806Z
LAST-MODIFIED:20231010T173806Z
UID:104186-1697317200-1697317200@www.godoycruz.sisargentina.com
SUMMARY:Mirada Oeste 2023
DESCRIPTION:[vc_row][vc_column][vc_column_text]Uno de los festivales de cine más importantes de la provincia renueva su agenda. \nProyección de películas claves para nuestro cine\, Masterclass con especialistas\, charlas\, clásicos de culto\, fiesta temática y museo de cine\, entre otras novedades. \n“Fiesta Matrix”. Premio de 100 mil pesos al mejor disfraz relacionado a la película. \nDj Peter Boya & Vj Gabriel Leonangelí + Proyección de la película. \nEntrada gratuita.[/vc_column_text][/vc_column][/vc_row][vc_row][vc_column][vc_single_image image=»104187″ img_size=»full»][/vc_column][/vc_row] \n
URL:https://www.godoycruz.sisargentina.com/evento/mirada-oeste-2023-5/
ATTACH;FMTTYPE=image/jpeg:https://www.godoycruz.sisargentina.com/wp-content/uploads/2023/10/386749941_644285537890359_1193098847922458516_n.jpg
END:VEVENT
BEGIN:VEVENT
DTSTART;TZID=UTC-3:20231014T213000
DTEND;TZID=UTC-3:20231014T213000
DTSTAMP:20260421T032751
CREATED:20231010T160528Z
LAST-MODIFIED:20231010T160528Z
UID:104158-1697319000-1697319000@www.godoycruz.sisargentina.com
SUMMARY:Flora Tristán y Tere González
DESCRIPTION:[vc_row][vc_column][vc_column_text]Flora Tristán y Tere González se reúnen por primera vez en el corazón subterráneo de Godoy Cruz\, en un encuentro primaveral de canciones. \nLas artistas le ofrecerán al público lo mejor de su repertorio. \nComprá tus entradas online en https://bit.ly/EntradasFloraTereGonzález[/vc_column_text][/vc_column][/vc_row][vc_row][vc_column][vc_single_image image=»104159″ img_size=»full»][/vc_column][/vc_row] \n
URL:https://www.godoycruz.sisargentina.com/evento/flora-tristan-tere-gonzalez/
LOCATION:Tomba 54\, Godoy Cruz\, Mendoza\, 5501\, Argentina
ATTACH;FMTTYPE=image/jpeg:https://www.godoycruz.sisargentina.com/wp-content/uploads/2023/10/WhatsApp-Image-2023-10-03-at-9.39.54-PM.jpeg
END:VEVENT
BEGIN:VEVENT
DTSTART;TZID=UTC-3:20231014T213000
DTEND;TZID=UTC-3:20231014T213000
DTSTAMP:20260421T032751
CREATED:20231010T174521Z
LAST-MODIFIED:20231010T174521Z
UID:104189-1697319000-1697319000@www.godoycruz.sisargentina.com
SUMMARY:Mirada Oeste 2023
DESCRIPTION:[vc_row][vc_column][vc_column_text]Uno de los festivales de cine más importantes de la provincia renueva su agenda. \nProyección de películas claves para nuestro cine\, Masterclass con especialistas\, charlas\, clásicos de culto\, fiesta temática y museo de cine\, entre otras novedades. \nProyección del documental “3 cosas básicas”\, de Francisco Matiozzi Molinas. \nEntrada gratuita.[/vc_column_text][/vc_column][/vc_row][vc_row][vc_column][vc_single_image image=»104190″ img_size=»full»][/vc_column][/vc_row] \n
URL:https://www.godoycruz.sisargentina.com/evento/mirada-oeste-2023-6/
ATTACH;FMTTYPE=image/jpeg:https://www.godoycruz.sisargentina.com/wp-content/uploads/2023/10/386719074_644285567890356_6808819257601124630_n.jpg
END:VEVENT
END:VCALENDAR