BEGIN:VCALENDAR
VERSION:2.0
PRODID:-//Godoy Cruz - ECPv4.5.8.1//NONSGML v1.0//EN
CALSCALE:GREGORIAN
METHOD:PUBLISH
X-WR-CALNAME:Godoy Cruz
X-ORIGINAL-URL:https://www.godoycruz.sisargentina.com
X-WR-CALDESC:Events for Godoy Cruz
BEGIN:VEVENT
DTSTART;TZID=UTC-3:20231007T193000
DTEND;TZID=UTC-3:20231007T220000
DTSTAMP:20260421T014045
CREATED:20230918T164414Z
LAST-MODIFIED:20230918T164414Z
UID:103541-1696707000-1696716000@www.godoycruz.sisargentina.com
SUMMARY:Palabra Plena
DESCRIPTION:[vc_row][vc_column][vc_column_text]El psicoanalista\, psicólogo y escritor Gabriel Rolón se presenta con su nueva charla\, que invita a encontrarnos y reflexionar sobre diferentes temas. \nSomos humanos en tanto habitamos un mundo de palabras. Un mundo lleno de seres y paisajes que no veremos jamás\, y sin embargo nos recorren. \nDar la palabra es darse uno mismo\, siempre y cuando no se trate de una palabra vacía. No siempre que hablamos decimos algo de nosotros. La única palabra importante es la que lleva nuestra sangre. La que nos modifica una vez pronunciada. Esa es una palabra que nos compromete y nos define. Esa es una palabra plena. \nDirección: Carlos Nieto \nMúsica Original: Gabriel Mores \nCompá tus entradas online en https://bit.ly/EntradasGabrielRolon o en la boletería del teatro (solo efectivo)\, de lunes a sábado de 9 a 18 hs.[/vc_column_text][/vc_column][/vc_row][vc_row][vc_column][vc_single_image image=»103542″ img_size=»full»][/vc_column][/vc_row] \n
URL:https://www.godoycruz.sisargentina.com/evento/palabra-plena/
LOCATION:Colón 27\, Godoy Cruz\, Mendoza\, 5501\, Argentina
ATTACH;FMTTYPE=image/jpeg:https://www.godoycruz.sisargentina.com/wp-content/uploads/2023/09/365977880_612636071055306_4761320084004284054_n.jpg
END:VEVENT
BEGIN:VEVENT
DTSTART;TZID=UTC-3:20231007T200000
DTEND;TZID=UTC-3:20231007T200000
DTSTAMP:20260421T014045
CREATED:20231004T135054Z
LAST-MODIFIED:20231004T135054Z
UID:103954-1696708800-1696708800@www.godoycruz.sisargentina.com
SUMMARY:San Vicente Tango
DESCRIPTION:[vc_row][vc_column][vc_column_text]Espacio Arizu (Belgrano 1400). \nBailarines Belén Giménez y Juan Pablo Valdebenito. Trío Lewin- Ratier-Velasco. Piazzollamente. Contramarca. \nDegustación de vino. Entrada gratuita.[/vc_column_text][/vc_column][/vc_row][vc_row][vc_column][vc_single_image image=»103955″ img_size=»full»][/vc_column][/vc_row] \n
URL:https://www.godoycruz.sisargentina.com/evento/san-vicente-tango-5/
LOCATION:Mendoza
ATTACH;FMTTYPE=image/jpeg:https://www.godoycruz.sisargentina.com/wp-content/uploads/2023/10/WhatsApp-Image-2023-10-02-at-12.03.15-PM-1.jpeg
END:VEVENT
BEGIN:VEVENT
DTSTART;TZID=UTC-3:20231007T200000
DTEND;TZID=UTC-3:20231007T200000
DTSTAMP:20260421T014045
CREATED:20231004T140109Z
LAST-MODIFIED:20231004T140109Z
UID:103958-1696708800-1696708800@www.godoycruz.sisargentina.com
SUMMARY:San Vicente Tango
DESCRIPTION:[vc_row][vc_column][vc_column_text]Milonga en la Buena Birra. \nLa Buena Birra (Perito Moreno 625). \nDj Damaris Aveiro. Ballet Guaymallén. Entrada gratuita.[/vc_column_text][/vc_column][/vc_row][vc_row][vc_column][vc_single_image image=»103959″ img_size=»full»][/vc_column][/vc_row] \n
URL:https://www.godoycruz.sisargentina.com/evento/san-vicente-tango-6/
LOCATION:Mendoza
ATTACH;FMTTYPE=image/jpeg:https://www.godoycruz.sisargentina.com/wp-content/uploads/2023/10/WhatsApp-Image-2023-10-02-at-12.03.13-PM.jpeg
END:VEVENT
END:VCALENDAR