BEGIN:VCALENDAR
VERSION:2.0
PRODID:-//Godoy Cruz - ECPv4.5.8.1//NONSGML v1.0//EN
CALSCALE:GREGORIAN
METHOD:PUBLISH
X-WR-CALNAME:Godoy Cruz
X-ORIGINAL-URL:https://www.godoycruz.sisargentina.com
X-WR-CALDESC:Events for Godoy Cruz
BEGIN:VEVENT
DTSTART;TZID=UTC-3:20231001T100000
DTEND;TZID=UTC-3:20231001T100000
DTSTAMP:20260421T084409
CREATED:20230930T022442Z
LAST-MODIFIED:20230930T022442Z
UID:103856-1696154400-1696154400@www.godoycruz.sisargentina.com
SUMMARY:Mundial Mendocino de Café
DESCRIPTION:[vc_row][vc_column][vc_column_text]Campeonato de 32 baristas de diferentes cafeterías de Mendoza. \nCharlas con reconocidos referentes\, emprendedores\, stands y cafeterías\, sorteos\, catas de café\, foodtrucks\, espectáculos musicales en vivo. \nArtistas: \nLaura Carubín\, LaMoladora. \nEntrada gratuita.[/vc_column_text][/vc_column][/vc_row][vc_row][vc_column][vc_single_image image=»103854″ img_size=»full»][/vc_column][/vc_row] \n
URL:https://www.godoycruz.sisargentina.com/evento/mundial-mendocino-cafe-2/
ATTACH;FMTTYPE=image/jpeg:https://www.godoycruz.sisargentina.com/wp-content/uploads/2023/09/378587398_858578265621704_8019702216357676512_n.jpg
END:VEVENT
BEGIN:VEVENT
DTSTART;TZID=UTC-3:20231001T200000
DTEND;TZID=UTC-3:20231001T220000
DTSTAMP:20260421T084409
CREATED:20230927T175450Z
LAST-MODIFIED:20230927T175450Z
UID:103796-1696190400-1696197600@www.godoycruz.sisargentina.com
SUMMARY:Llamame amor
DESCRIPTION:[vc_row][vc_column][vc_column_text]Estreno del primer espectáculo en español del director italiano Claudio Massimo Paternò. \nSinopsis: En una Argentina invadida por la euforia mundialista de diciembre del 2022\, dos mujeres trabajan en un call center poco convencional\, un servicio que vende «deseo». \nLlamame Amor es un espacio al que personas se comunican para cumplir sus fantasías desde la escucha. Las dos encargadas de vender aquel momento de deseo se encuentran repentinamente ante la búsqueda del propio. \nDirector: Claudio Massimo Paternò. \nActrices: Daniela Funes y Constanza Lucero. \nConseguí tus entradas online en https://bit.ly/EntradasLlamameAmor[/vc_column_text][/vc_column][/vc_row][vc_row][vc_column][vc_single_image image=»103794″ img_size=»full»][/vc_column][/vc_row] \n
URL:https://www.godoycruz.sisargentina.com/evento/llamame-amor/
ATTACH;FMTTYPE=image/jpeg:https://www.godoycruz.sisargentina.com/wp-content/uploads/2023/09/WhatsApp-Image-2023-09-26-at-11.41.46-AM.jpeg
END:VEVENT
END:VCALENDAR