BEGIN:VCALENDAR
VERSION:2.0
PRODID:-//Godoy Cruz - ECPv4.5.8.1//NONSGML v1.0//EN
CALSCALE:GREGORIAN
METHOD:PUBLISH
X-WR-CALNAME:Godoy Cruz
X-ORIGINAL-URL:https://www.godoycruz.sisargentina.com
X-WR-CALDESC:Events for Godoy Cruz
BEGIN:VEVENT
DTSTART;TZID=UTC-3:20230921T210000
DTEND;TZID=UTC-3:20230921T210000
DTSTAMP:20260421T100138
CREATED:20230919T173931Z
LAST-MODIFIED:20230919T173931Z
UID:103563-1695330000-1695330000@www.godoycruz.sisargentina.com
SUMMARY:Estaciones de Vivaldi
DESCRIPTION:[vc_row][vc_column][vc_column_text]La Orquesta Barroca de Mendoza sube al escenario del Cine Teatro Plaza para interpretar «Las Cuatro Estaciones»\, de Antonio Vivaldi. \nLa obra reúne 4 conciertos y se convirtió en una pieza musical fundamental de la música clásica a nivel mundial. \nDirector: Mariano Peralta. \nSolistas invitados (violín): Fernando Velázquez (Argentina)\, Sariah Moreira (Ecuador)\, Roger Campos (Venezuela) y Luis Bastidas (Venezuela). \nCompá tus entradas online en https://bit.ly/EntradasEstacionesDeVivaldi o en la boletería del teatro (solo efectivo)\, de lunes a sábado de 9 a 18 hs.[/vc_column_text][/vc_column][/vc_row][vc_row][vc_column][vc_single_image image=»103564″ img_size=»full»][/vc_column][/vc_row] \n
URL:https://www.godoycruz.sisargentina.com/evento/estaciones-de-vivaldi/
LOCATION:Colón 27\, Godoy Cruz\, Mendoza\, 5501\, Argentina
ATTACH;FMTTYPE=image/jpeg:https://www.godoycruz.sisargentina.com/wp-content/uploads/2023/09/9bf4e05e-b11e-42e8-bfcd-39e3f0d8484f.jpg
END:VEVENT
BEGIN:VEVENT
DTSTART;TZID=UTC-3:20230921T213000
DTEND;TZID=UTC-3:20230921T213000
DTSTAMP:20260421T100138
CREATED:20230920T155049Z
LAST-MODIFIED:20230920T155049Z
UID:103592-1695331800-1695331800@www.godoycruz.sisargentina.com
SUMMARY:Cabo de Hornos
DESCRIPTION:[vc_row][vc_column][vc_column_text]Se estrena esta obra de Igor Bauersima\, en el marco del aniversario de la Enkosala Gladys Ravalle. Será en la Biblioteca + Mediateca de Godoy Cruz (Tomba 54). \nElenco: Francisca Llompart y Gustavo Adolfo Ramírez. \nDirección y Puesta en escena: Juan Comotti. \nTraducción al español: Margit Schmohl. \nSinopsis de la Obra: La obra narra el particular encuentro de dos generaciones disimiles representadas por una anciana en sus últimos años y un joven regresa al remoto paraíso de su juventud\, la playa donde recuerda haber pasado los mejores días de su vida. Una trama con humor que roza lo policial bajo una sencilla y entretenida historia familiar. Puedes perder la vida intentando sortearlo o siempre puedes soñar con intentarlo si vivir.[/vc_column_text][/vc_column][/vc_row][vc_row][vc_column][vc_single_image image=»103593″ img_size=»full»][/vc_column][/vc_row] \n
URL:https://www.godoycruz.sisargentina.com/evento/cabo-de-hornos/
LOCATION:Tomba 54\, Godoy Cruz\, Mendoza\, 5501\, Argentina
ATTACH;FMTTYPE=image/jpeg:https://www.godoycruz.sisargentina.com/wp-content/uploads/2023/09/b94b9c90-31df-40b9-b583-27d851829ac6.jpg
END:VEVENT
END:VCALENDAR