BEGIN:VCALENDAR
VERSION:2.0
PRODID:-//Godoy Cruz - ECPv4.5.8.1//NONSGML v1.0//EN
CALSCALE:GREGORIAN
METHOD:PUBLISH
X-WR-CALNAME:Godoy Cruz
X-ORIGINAL-URL:https://www.godoycruz.sisargentina.com
X-WR-CALDESC:Events for Godoy Cruz
BEGIN:VEVENT
DTSTART;TZID=UTC-3:20230910T120000
DTEND;TZID=UTC-3:20230910T120000
DTSTAMP:20260421T032852
CREATED:20230907T152057Z
LAST-MODIFIED:20230907T152057Z
UID:103229-1694347200-1694347200@www.godoycruz.sisargentina.com
SUMMARY:12º Fiesta de Confraternización de Brasil en Mendoza
DESCRIPTION:[vc_row][vc_column][vc_column_text]Celebramos lo mejor de la cultura y la gastronomía de Brasil en el Parque San Vicente. \nComidas y bebidas típicas. Espectáculos de música en vivo. \nBailarines\, escuelas de Samba\, Capoeira y mucho más! \nEntrada: se solicita 1 kg de alimento no perecedero\, a beneficio de comedores infantiles de Godoy Cruz.[/vc_column_text][/vc_column][/vc_row][vc_row][vc_column][vc_single_image image=»103230″ img_size=»full»][/vc_column][/vc_row] \n
URL:https://www.godoycruz.sisargentina.com/evento/12o-fiesta-confraternizacion-brasil-mendoza/
ATTACH;FMTTYPE=image/jpeg:https://www.godoycruz.sisargentina.com/wp-content/uploads/2023/09/WhatsApp-Image-2023-09-04-at-3.20.09-PM.jpeg
END:VEVENT
BEGIN:VEVENT
DTSTART;TZID=UTC-3:20230910T170000
DTEND;TZID=UTC-3:20230910T170000
DTSTAMP:20260421T032852
CREATED:20230907T163327Z
LAST-MODIFIED:20230907T163327Z
UID:103237-1694365200-1694365200@www.godoycruz.sisargentina.com
SUMMARY:Rolando en el Palacio de la Tristeza
DESCRIPTION:[vc_row][vc_column][vc_column_text]Llega una divertida función de teatro de títeres con la obra «Rolando en el palacio de la tristeza». \nA cargo del elenco Grupo del Sinfín. \nInterpretación\, dramaturgia y dirección: Ósjar Navarro Correa. \nSinópsis: Rolando\, un juglar que recorre comarcas junto a su caballo\, llega un día a un palacio abandonado y triste. La razón: la reina Pepa llora desconsoladamente y el rey Pepe ignora el motivo. Es entonces que decide brindar su ayuda para intentar solucionar el problema. \nEntrada gratuita\, salida a la gorra.[/vc_column_text][/vc_column][/vc_row][vc_row][vc_column][vc_single_image image=»103238″ img_size=»full»][/vc_column][/vc_row] \n
URL:https://www.godoycruz.sisargentina.com/evento/rolando-palacio-la-tristeza/
ATTACH;FMTTYPE=image/jpeg:https://www.godoycruz.sisargentina.com/wp-content/uploads/2023/09/374740692_627757346209845_8382751126135078732_n.jpg
END:VEVENT
BEGIN:VEVENT
DTSTART;TZID=UTC-3:20230910T180000
DTEND;TZID=UTC-3:20230910T180000
DTSTAMP:20260421T032852
CREATED:20230906T172124Z
LAST-MODIFIED:20230906T172124Z
UID:103198-1694368800-1694368800@www.godoycruz.sisargentina.com
SUMMARY:Dionisias Wine Fair 2º Edición
DESCRIPTION:[vc_row][vc_column][vc_column_text]Llega a Godoy Cruz esta feria protagonizada integramente por mujeres del vino. \nReunirá a más de 20 enólogas y más de 80 etiquetas de diversas bodegas. \nMercado de productos de Mendoza (exposición y venta)\, degustación de vinos de alta gama\, música en vivo y gastronomía. \nArtistas: DJ Melanie Camsen\, Brassass. \nEntrada gratuita: para mercado de productos regionales\, música en vivo y foodtrucks \nDegustación de vinos (incluye copa): entrada online en[/vc_column_text][/vc_column][/vc_row][vc_row][vc_column][vc_single_image image=»103195″ img_size=»full»][/vc_column][/vc_row] \n
URL:https://www.godoycruz.sisargentina.com/evento/dionisias-wine-fair-2o-edicion/
ATTACH;FMTTYPE=image/jpeg:https://www.godoycruz.sisargentina.com/wp-content/uploads/2023/09/371534522_624708846514695_3386090625505187535_n.jpg
END:VEVENT
BEGIN:VEVENT
DTSTART;TZID=UTC-3:20230910T203000
DTEND;TZID=UTC-3:20230910T203000
DTSTAMP:20260421T032852
CREATED:20230906T144659Z
LAST-MODIFIED:20230906T144659Z
UID:103174-1694377800-1694377800@www.godoycruz.sisargentina.com
SUMMARY:Juampi González presenta "Soltero"
DESCRIPTION:[vc_row][vc_column][vc_column_text]Llega una gran noche de Stand up y humor\, de la mano de Juampi Gonzalez y su unipersonal «Soltero». \nEl espectáculo más exitoso de la temporada vuelve a ocupar la cartelera del municipio\, con una nueva función donde el público no para de reír. \nAdemás\, consultorio en vivo para hablar de sexo con «Alesssandra Teapoya». \nEntradas online disponibles en https://bit.ly/EntradasJuampiGonzalez23 o en la boletería del teatro (solo efectivo)\, de lunes a sábado de 9 a 18H.[/vc_column_text][/vc_column][/vc_row][vc_row][vc_column][vc_single_image image=»103175″ img_size=»full»][/vc_column][/vc_row] \n
URL:https://www.godoycruz.sisargentina.com/evento/juampi-gonzalez-presenta-soltero-3/
LOCATION:Colón 27\, Godoy Cruz\, Mendoza\, 5501\, Argentina
ATTACH;FMTTYPE=image/jpeg:https://www.godoycruz.sisargentina.com/wp-content/uploads/2023/09/371115326_623219423330304_3036962619275630086_n.jpg
END:VEVENT
END:VCALENDAR