BEGIN:VCALENDAR
VERSION:2.0
PRODID:-//Godoy Cruz - ECPv4.5.8.1//NONSGML v1.0//EN
CALSCALE:GREGORIAN
METHOD:PUBLISH
X-WR-CALNAME:Godoy Cruz
X-ORIGINAL-URL:https://www.godoycruz.sisargentina.com
X-WR-CALDESC:Events for Godoy Cruz
BEGIN:VEVENT
DTSTART;TZID=UTC-3:20230909T180000
DTEND;TZID=UTC-3:20230909T180000
DTSTAMP:20260421T032956
CREATED:20230906T164826Z
LAST-MODIFIED:20230906T165316Z
UID:103194-1694282400-1694282400@www.godoycruz.sisargentina.com
SUMMARY:Dionisias Wine Fair 2º Edición
DESCRIPTION:[vc_row][vc_column][vc_column_text]Llega a Godoy Cruz esta feria protagonizada integramente por mujeres del vino. \nReunirá a más de 20 enólogas y más de 80 etiquetas de diversas bodegas. \nMercado de productos de Mendoza (exposición y venta)\, degustación de vinos de alta gama\, música en vivo y gastronomía. \nArtistas: Clari Ceschin; El Gremio Tropical. \nEntrada gratuita: para mercado de productos regionales\, música en vivo y foodtrucks \nDegustación de vinos (incluye copa): entrada online en https://bit.ly/DegustacionDionisiasWineFair[/vc_column_text][/vc_column][/vc_row][vc_row][vc_column][vc_single_image image=»103195″ img_size=»full»][/vc_column][/vc_row] \n
URL:https://www.godoycruz.sisargentina.com/evento/dionisias-wine-fair-2o-edicion1/
ATTACH;FMTTYPE=image/jpeg:https://www.godoycruz.sisargentina.com/wp-content/uploads/2023/09/371534522_624708846514695_3386090625505187535_n.jpg
END:VEVENT
BEGIN:VEVENT
DTSTART;TZID=UTC-3:20230909T220000
DTEND;TZID=UTC-3:20230909T220000
DTSTAMP:20260421T032956
CREATED:20230814T171119Z
LAST-MODIFIED:20230814T171119Z
UID:102609-1694296800-1694296800@www.godoycruz.sisargentina.com
SUMMARY:Fede Cyrulnik en Stand Up Comedy Show
DESCRIPTION:[vc_row][vc_column][vc_column_text]El comediante furor en redes sociales Federico Cyrulnik vuelve a Godoy Cruz con la segunda temporada de su uniparsonal. \nLuego de brindar un show con entradas agotadas\, el artista sigue analizando el comportamiento de las personas según su signo del zodiaco. \nConseguí tu entrada en la boletería del teatro (Colón 27)\, de lunes a sábado de 9 a 18H o en https://bit.ly/EntradasFedeCyrulnikComedyShow[/vc_column_text][/vc_column][/vc_row][vc_row][vc_column][vc_single_image image=»102610″ img_size=»full»][/vc_column][/vc_row] \n
URL:https://www.godoycruz.sisargentina.com/evento/fede-cyrulnik-stand-up-comedy-show/
LOCATION:Colón 27\, Godoy Cruz\, Mendoza\, 5501\, Argentina
ATTACH;FMTTYPE=image/jpeg:https://www.godoycruz.sisargentina.com/wp-content/uploads/2023/08/363838259_622404499978379_2870153927651234369_n.jpg
END:VEVENT
END:VCALENDAR