BEGIN:VCALENDAR
VERSION:2.0
PRODID:-//Godoy Cruz - ECPv4.5.8.1//NONSGML v1.0//EN
CALSCALE:GREGORIAN
METHOD:PUBLISH
X-WR-CALNAME:Godoy Cruz
X-ORIGINAL-URL:https://www.godoycruz.sisargentina.com
X-WR-CALDESC:Events for Godoy Cruz
BEGIN:VEVENT
DTSTART;TZID=UTC-3:20230902T120000
DTEND;TZID=UTC-3:20230902T230000
DTSTAMP:20260421T032808
CREATED:20230829T160410Z
LAST-MODIFIED:20230829T161502Z
UID:102969-1693656000-1693695600@www.godoycruz.sisargentina.com
SUMMARY:Festival Chicharron
DESCRIPTION:[vc_row][vc_column][vc_column_text]Llega una nueva edición de este importante ciclo gastronómico y musical. \nEsta entrega contará con diferentes propuestas de gastronomía\, coctelería y clases de cocina. \nTambién habrá recitales de grandes artistas. \nMúsica en vivo: Cassette Club del Retro y Caballeros del Zodiado. \nEntrada gratuita.[/vc_column_text][/vc_column][/vc_row][vc_row][vc_column][vc_single_image image=»102971″ img_size=»full»][/vc_column][/vc_row] \n
URL:https://www.godoycruz.sisargentina.com/evento/festival-chicharron-5-2/
ATTACH;FMTTYPE=image/jpeg:https://www.godoycruz.sisargentina.com/wp-content/uploads/2023/08/371765395_847663286713202_8052127407757829845_n.jpg
END:VEVENT
BEGIN:VEVENT
DTSTART;TZID=UTC-3:20230902T220000
DTEND;TZID=UTC-3:20230902T220000
DTSTAMP:20260421T032808
CREATED:20230822T172738Z
LAST-MODIFIED:20230822T172738Z
UID:102797-1693692000-1693692000@www.godoycruz.sisargentina.com
SUMMARY:El Divorcio. Lo suficiente...nunca es suficiente!!
DESCRIPTION:[vc_row][vc_column][vc_column_text]El espectáculo más convocante de Mar del Plata y la Calle Corrientes inicia una gira nacional e internacional. \nEn esta divertida comedia los conflictos de pareja quedarán expuestos\, mientras que una novedosa “terapia”\, de la que se desprenderán momentos desopilantes\, buscará subsanarlos. \nLibro y dirección: Nelson Valente. \nElenco: Luciano Castro\, Mica Riera\, Pablo Rago y Carla Conte. \nAdquirí tu entrada de manera online en https://bit.ly/EntradasElDivorcio o en la boletería del Teatro Plaza (solo en efectivo)\, de lunes a sábado de 9 a 18H.[/vc_column_text][/vc_column][/vc_row][vc_row][vc_column][vc_single_image image=»102795″ img_size=»full»][/vc_column][/vc_row] \n
URL:https://www.godoycruz.sisargentina.com/evento/divorcio-lo-suficiente-nunca-suficiente-2/
LOCATION:Colón 27\, Godoy Cruz\, Mendoza\, 5501\, Argentina
ATTACH;FMTTYPE=image/jpeg:https://www.godoycruz.sisargentina.com/wp-content/uploads/2023/08/361589368_990182209092394_2140535261829707705_n.jpg
END:VEVENT
END:VCALENDAR