BEGIN:VCALENDAR
VERSION:2.0
PRODID:-//Godoy Cruz - ECPv4.5.8.1//NONSGML v1.0//EN
CALSCALE:GREGORIAN
METHOD:PUBLISH
X-WR-CALNAME:Godoy Cruz
X-ORIGINAL-URL:https://www.godoycruz.sisargentina.com
X-WR-CALDESC:Events for Godoy Cruz
BEGIN:VEVENT
DTSTART;TZID=UTC-3:20230427T170000
DTEND;TZID=UTC-3:20230427T170000
DTSTAMP:20260425T165245
CREATED:20230421T153219Z
LAST-MODIFIED:20230421T153219Z
UID:99417-1682614800-1682614800@www.godoycruz.sisargentina.com
SUMMARY:Michelle Bliman y Fernando Samalea: Charla/Taller y Jamm Session
DESCRIPTION:[vc_row][vc_column][vc_column_text]El experimentado baterista y bandoneonista y la talentosa multinstrumentista brindarán una charla/taller abierta para el público en general. \nCierre musical (Jamm Session) en vivo con los asistentes. \nEntradas gratuitas (cupos limitados) vía online en https://bit.ly/EntradasSamalea[/vc_column_text][/vc_column][/vc_row][vc_row][vc_column][vc_single_image image=»99419″ img_size=»full»][/vc_column][/vc_row] \n
URL:https://www.godoycruz.sisargentina.com/evento/michelle-bliman-fernando-samalea-charlataller-jamm-session/
LOCATION:Tomba 54\, Godoy Cruz\, Mendoza\, 5501\, Argentina
ATTACH;FMTTYPE=image/jpeg:https://www.godoycruz.sisargentina.com/wp-content/uploads/2023/04/340598472_560657362802028_2356044893144603917_n.jpg
END:VEVENT
BEGIN:VEVENT
DTSTART;TZID=UTC-3:20230427T210000
DTEND;TZID=UTC-3:20230427T210000
DTSTAMP:20260425T165245
CREATED:20230320T170414Z
LAST-MODIFIED:20230320T170414Z
UID:98484-1682629200-1682629200@www.godoycruz.sisargentina.com
SUMMARY:Pepe con Pepe
DESCRIPTION:[vc_row][vc_column][vc_column_text]Pepe Cibrián Campoy protagoniza un espectáculo intimista que propone un repaso por su vida personal y artística. \nCon la personalidad histriónica impronta que lo caracteriza\, Cibrián se encontrará con sus recuerdos y los momentos imborrables de una vida que ha dejado huella en la cultura de todos los argentinos. \nEspectáculo apto para mayores de 16 años. \nObtené tus entradas anticipadas vía online en  https://bit.ly/EntradasPepeConPepe o en la boletería del teatro\, de lunes a sábado de 9 a 18 horas.[/vc_column_text][/vc_column][/vc_row][vc_row][vc_column][vc_single_image image=»98485″ img_size=»full»][/vc_column][/vc_row] \n
URL:https://www.godoycruz.sisargentina.com/evento/pepe-con-pepe/
LOCATION:Colón 27\, Godoy Cruz\, Mendoza\, 5501\, Argentina
ATTACH;FMTTYPE=image/jpeg:https://www.godoycruz.sisargentina.com/wp-content/uploads/2023/03/330216728_758897548911310_6584230340121901490_n.jpg
END:VEVENT
END:VCALENDAR