BEGIN:VCALENDAR
VERSION:2.0
PRODID:-//Godoy Cruz - ECPv4.5.8.1//NONSGML v1.0//EN
CALSCALE:GREGORIAN
METHOD:PUBLISH
X-WR-CALNAME:Godoy Cruz
X-ORIGINAL-URL:https://www.godoycruz.sisargentina.com
X-WR-CALDESC:Events for Godoy Cruz
BEGIN:VEVENT
DTSTART;TZID=UTC-3:20230421T200000
DTEND;TZID=UTC-3:20230421T200000
DTSTAMP:20260425T040840
CREATED:20230404T162941Z
LAST-MODIFIED:20230404T162941Z
UID:98983-1682107200-1682107200@www.godoycruz.sisargentina.com
SUMMARY:Maurito & The Rufos presenta "Búnker Maravilla"
DESCRIPTION:[vc_row][vc_column][vc_column_text]Maurito and The Rufos lanza su segundo disco de estudio en vivo: Búnker Maravilla. \nSerá un show único con invitados especiales y muchas sorpresas. \nBarra. Merchandising oficial. Sorteos en vivo \nLas entradas se pueden obtener de manera online en https://bit.ly/EntradasMauritoAndTheRufos[/vc_column_text][/vc_column][/vc_row][vc_row][vc_column][vc_single_image image=»98985″ img_size=»full»][/vc_column][/vc_row] \n
URL:https://www.godoycruz.sisargentina.com/evento/maurito-the-rufos-presenta-bunker-maravilla/
ATTACH;FMTTYPE=image/png:https://www.godoycruz.sisargentina.com/wp-content/uploads/2023/04/FLYER-1X1.png
END:VEVENT
BEGIN:VEVENT
DTSTART;TZID=UTC-3:20230421T210000
DTEND;TZID=UTC-3:20230421T210000
DTSTAMP:20260425T040840
CREATED:20230413T134028Z
LAST-MODIFIED:20230413T134028Z
UID:99182-1682110800-1682110800@www.godoycruz.sisargentina.com
SUMMARY:San Vicente Jazz 15 años
DESCRIPTION:[vc_row][vc_column][vc_column_text]Llega una nueva edición del clasico festival dedicado al Jazz y sus corrientes sonoras. \nSerán 6 conciertos para disfrutar de grandes artistas de nuestro país y Chile. \nArtistas: Zequech; Lady Bren & Company; Daniel Maza Cuarteto (Buenos Aires). \nEntrada gratuita por orden de llegada (capacidad limitada).[/vc_column_text][/vc_column][/vc_row][vc_row][vc_column][vc_single_image image=»99183″ img_size=»full»][/vc_column][/vc_row] \n
URL:https://www.godoycruz.sisargentina.com/evento/san-vicente-jazz-15-anos/
ATTACH;FMTTYPE=image/jpeg:https://www.godoycruz.sisargentina.com/wp-content/uploads/2023/04/340843720_150428204641575_4399397830869323316_n.jpg
END:VEVENT
BEGIN:VEVENT
DTSTART;TZID=UTC-3:20230421T213000
DTEND;TZID=UTC-3:20230421T213000
DTSTAMP:20260425T040840
CREATED:20230412T134324Z
LAST-MODIFIED:20230412T134324Z
UID:99149-1682112600-1682112600@www.godoycruz.sisargentina.com
SUMMARY:Ciclo Batman Animado
DESCRIPTION:[vc_row][vc_column][vc_column_text]Proyección de algunas de las mejores películas de dibujos animados del popular personaje de DC Comics. \nPelícula: “Batman: Year One” (Batman: Año uno). Duración: 64 min. Calificación: +13 \nSinopsis: La historia cuenta los inicios de la carrera de Bruce Wayne como Batman y de James Gordon con el Departamento de Policía de Gotham City. \nLa vida de estos dos individuos se entrecruzan cuando descubren que son aliados en contra de los poderes corruptos en Gotham City.[/vc_column_text][/vc_column][/vc_row][vc_row][vc_column][vc_single_image image=»99150″ img_size=»full»][/vc_column][/vc_row] \n
URL:https://www.godoycruz.sisargentina.com/evento/ciclo-batman-animado/
LOCATION:Tomba 54\, Godoy Cruz\, Mendoza\, 5501\, Argentina
ATTACH;FMTTYPE=image/jpeg:https://www.godoycruz.sisargentina.com/wp-content/uploads/2023/04/WhatsApp-Image-2023-04-11-at-2.09.34-PM-2.jpeg
END:VEVENT
END:VCALENDAR