BEGIN:VCALENDAR
VERSION:2.0
PRODID:-//Godoy Cruz - ECPv4.5.8.1//NONSGML v1.0//EN
CALSCALE:GREGORIAN
METHOD:PUBLISH
X-WR-CALNAME:Godoy Cruz
X-ORIGINAL-URL:https://www.godoycruz.sisargentina.com
X-WR-CALDESC:Events for Godoy Cruz
BEGIN:VEVENT
DTSTART;TZID=UTC-3:20220608T193000
DTEND;TZID=UTC-3:20220608T193000
DTSTAMP:20260422T221703
CREATED:20220606T023022Z
LAST-MODIFIED:20220606T023022Z
UID:90046-1654716600-1654716600@www.godoycruz.sisargentina.com
SUMMARY:TALLER DE FOTOGRAFÍA CON CELULAR EN LA CASA DE LA CULTURA Y LA MEMORIA
DESCRIPTION:[vc_row][vc_column][vc_column_text]Taller teórico práctico de Fotografía artística con Celular busca facilitar herramientas para aficionados/as de la fotografía utilizando como cámara el celular. Se trabajaran temas como: exposición\, iluminación\, composición y ediciones con apps.[/vc_column_text][/vc_column][/vc_row][vc_row][vc_column][vc_single_image image=»90047″ img_size=»full»][/vc_column][/vc_row] \n
URL:https://www.godoycruz.sisargentina.com/evento/taller-fotografia-celular-la-casa-la-cultura-la-memoria/
LOCATION:Lavalle 88\, Godoy Cruz\, Mendoza (sólo Deptos. Capital\, Luján de Cuyo\, Las Heras\, Maipú\, Guaymallén\, Godoy Cruz\, Tunuyán y Tupungato)\, 5519\, Argentina
ATTACH;FMTTYPE=image/png:https://www.godoycruz.sisargentina.com/wp-content/uploads/2022/06/casa-de-la-cultura-y-la-memoria-09.png
END:VEVENT
END:VCALENDAR