BEGIN:VCALENDAR
VERSION:2.0
PRODID:-//Godoy Cruz - ECPv4.5.8.1//NONSGML v1.0//EN
CALSCALE:GREGORIAN
METHOD:PUBLISH
X-WR-CALNAME:Godoy Cruz
X-ORIGINAL-URL:https://www.godoycruz.sisargentina.com
X-WR-CALDESC:Events for Godoy Cruz
BEGIN:VEVENT
DTSTART;TZID=UTC-3:20220511T213000
DTEND;TZID=UTC-3:20220511T213000
DTSTAMP:20260423T085429
CREATED:20220504T143355Z
LAST-MODIFIED:20220504T143355Z
UID:89160-1652304600-1652304600@www.godoycruz.sisargentina.com
SUMMARY:Ellas cantan Spinetta en el Cumpleaños de Godoy Cruz
DESCRIPTION:[vc_row][vc_column][vc_column_text] \n\n\n[/vc_column_text][/vc_column][/vc_row][vc_row][vc_column][vc_column_text] \n\nCelebramos el 167° Aniversario de Godoy Cruz en el Teatro Plaza con un gran concierto Sinfonico en homenaje al querido flaco Spinetta\, con la música de la Orquesta Barroca de Mendoza junto a Mario Galván\, Martín Sánchez\, Gerardo Lucero y Pablo Conalbi\n\n\nCantantes:\n\n\nKei Faur\nAluhé Dumé\nCandela Albornoz\nArita Rodríguez\nCecilia Salinas\n\n[/vc_column_text][/vc_column][/vc_row][vc_row][vc_column][vc_single_image image=»89161″ img_size=»full»][/vc_column][/vc_row] \n
URL:https://www.godoycruz.sisargentina.com/evento/ellas-cantan-spinetta-cumpleanos-godoy-cruz/
LOCATION:Colon 27\, Godoy Cruz\, Mendoza\, Argentina
END:VEVENT
END:VCALENDAR