BEGIN:VCALENDAR
VERSION:2.0
PRODID:-//Godoy Cruz - ECPv4.5.8.1//NONSGML v1.0//EN
CALSCALE:GREGORIAN
METHOD:PUBLISH
X-WR-CALNAME:Godoy Cruz
X-ORIGINAL-URL:https://www.godoycruz.sisargentina.com
X-WR-CALDESC:Events for Godoy Cruz
BEGIN:VEVENT
DTSTART;TZID=UTC-3:20220506T160000
DTEND;TZID=UTC-3:20220507T130000
DTSTAMP:20260423T164917
CREATED:20220504T134648Z
LAST-MODIFIED:20220504T134725Z
UID:89148-1651852800-1651928400@www.godoycruz.sisargentina.com
SUMMARY:ENCUENTRO DE SUPRARECICLAJE TEXTIL / UPCYCLING
DESCRIPTION:[vc_row][vc_column][vc_column_text] \n\n¡Llega el primer Encuentro de Suprarreciclaje Textil / Upcycling! \n\n\n\nJunto al Ministerio de Economía y Energía de la Provincia de Mendoza te invitamos a participar de este encuentro que tendremos la visita exclusiva de la agrupación internacional de 12na.\n\n\n\nEsta acción permite apoyar las acciones del sector textil que contribuyen con el modelo global de sostenibilidad.\n\n\n\n• Viernes 6 Charla/Conversatorio 16 a 19hs\nEntrada por orden de llegada en la Casa de la Cultura y la Memoria (Lavalle 88\, Godoy Cruz)\n\n\n• Sábado 7 de mayo Workshop #CUPOAGOTADO\n\n[/vc_column_text][/vc_column][/vc_row][vc_row][vc_column][vc_single_image image=»89150″ img_size=»full»][/vc_column][/vc_row] \n
URL:https://www.godoycruz.sisargentina.com/evento/encuentro-suprareciclaje-textil-upcycling/
LOCATION:Lavalle 88\, Godoy Cruz\, Mendoza (sólo Deptos. Capital\, Luján de Cuyo\, Las Heras\, Maipú\, Guaymallén\, Godoy Cruz\, Tunuyán y Tupungato)\, 5519\, Argentina
ATTACH;FMTTYPE=image/jpeg:https://www.godoycruz.sisargentina.com/wp-content/uploads/2022/05/256d8ba6-2462-4a89-a61e-51008c211cee.jpg
END:VEVENT
BEGIN:VEVENT
DTSTART;TZID=UTC-3:20220506T220000
DTEND;TZID=UTC-3:20220506T220000
DTSTAMP:20260423T164917
CREATED:20220411T023417Z
LAST-MODIFIED:20220411T023547Z
UID:88454-1651874400-1651874400@www.godoycruz.sisargentina.com
SUMMARY:"Entre rosas y penumbras" Canciones del Astro de América
DESCRIPTION:[vc_row][vc_column][vc_column_text]Llegan las canciones del Astro de América al Cine Teatro Plaza\, José Armando Bendelé\, Sebastián Giunta y artistas invitados presentan Entre Rosas y Penumbras\, un recorrido por las canciones del gran Sandro.[/vc_column_text][/vc_column][/vc_row][vc_row][vc_column][vc_single_image image=»88455″ img_size=»full»][/vc_column][/vc_row] \n
URL:https://www.godoycruz.sisargentina.com/evento/rosas-penumbras-canciones-del-astro-america/
LOCATION:Colon 27\, Godoy Cruz\, Mendoza\, Argentina
ATTACH;FMTTYPE=image/jpeg:https://www.godoycruz.sisargentina.com/wp-content/uploads/2022/04/9.jpeg
END:VEVENT
END:VCALENDAR