BEGIN:VCALENDAR
VERSION:2.0
PRODID:-//Godoy Cruz - ECPv4.5.8.1//NONSGML v1.0//EN
CALSCALE:GREGORIAN
METHOD:PUBLISH
X-WR-CALNAME:Godoy Cruz
X-ORIGINAL-URL:https://www.godoycruz.sisargentina.com
X-WR-CALDESC:Events for Godoy Cruz
BEGIN:VEVENT
DTSTART;TZID=UTC-3:20220326T213000
DTEND;TZID=UTC-3:20220326T213000
DTSTAMP:20260424T131523
CREATED:20220325T174906Z
LAST-MODIFIED:20220325T174906Z
UID:87906-1648330200-1648330200@www.godoycruz.sisargentina.com
SUMMARY:Pequeña Serenata Nocturna
DESCRIPTION:[vc_row][vc_column][vc_column_text]La Orquesta Barroca de Mendoza interpreta una de las obras más importantes de W.A. Mozart. \nDirección: Mtro. Hugo Mariano Peralta. \nArtistas solistas: Silvia Fredes (flautista) e Igor Lara (violinista). \nEntradas en venta: \nBoletería del Teatro Plaza (Colón 27\, Godoy Cruz). Horario de atención: de lunes a sábado\, de 9 a 18h. \nVía online: https://bit.ly/PequenaSerenataNocturna[/vc_column_text][/vc_column][/vc_row][vc_row][vc_column][vc_single_image image=»87907″ img_size=»full»][/vc_column][/vc_row] \n
URL:https://www.godoycruz.sisargentina.com/evento/pequena-serenata-nocturna/
LOCATION:Colón 27\, Godoy Cruz\, Mendoza\, 5501\, Argentina
ATTACH;FMTTYPE=image/jpeg:https://www.godoycruz.sisargentina.com/wp-content/uploads/2022/03/WhatsApp-Image-2022-03-22-at-10.02.30-AM.jpeg
END:VEVENT
BEGIN:VEVENT
DTSTART;TZID=UTC-3:20220326T220000
DTEND;TZID=UTC-3:20220326T220000
DTSTAMP:20260424T131523
CREATED:20220325T164052Z
LAST-MODIFIED:20220325T164052Z
UID:87882-1648332000-1648332000@www.godoycruz.sisargentina.com
SUMMARY:Zona Teatro Godoy Cruz
DESCRIPTION:[vc_row][vc_column][vc_column_text]Vuelve el ciclo que fomenta el desarrollo de distintos espacios artísticos del departamento. \nObra: “Lágrimas y Risas” (unipersonal)\, de Ernesto “Flaco” Suárez. \nCupos limitados. \nSala: Enkosala Gladys Ravalle (Almirante Brown 755\, Godoy Cruz). \nEntradas en venta: \nVía online: https://bit.ly/EnkosalaZonaTeatro \nEl mismo día de la función\, en la sala.[/vc_column_text][/vc_column][/vc_row][vc_row][vc_column][vc_single_image image=»87883″ img_size=»full»][/vc_column][/vc_row] \n
URL:https://www.godoycruz.sisargentina.com/evento/zona-teatro-godoy-cruz/
LOCATION:Mendoza
ATTACH;FMTTYPE=image/jpeg:https://www.godoycruz.sisargentina.com/wp-content/uploads/2022/03/276138518_283273630658220_3404253738793593535_n.jpg
END:VEVENT
END:VCALENDAR