BEGIN:VCALENDAR
VERSION:2.0
PRODID:-//Godoy Cruz - ECPv4.5.8.1//NONSGML v1.0//EN
CALSCALE:GREGORIAN
METHOD:PUBLISH
X-WR-CALNAME:Godoy Cruz
X-ORIGINAL-URL:https://www.godoycruz.sisargentina.com
X-WR-CALDESC:Events for Godoy Cruz
BEGIN:VEVENT
DTSTART;TZID=UTC-3:20220228T200000
DTEND;TZID=UTC-3:20220228T200000
DTSTAMP:20260422T222553
CREATED:20220223T165321Z
LAST-MODIFIED:20220223T165321Z
UID:86983-1646078400-1646078400@www.godoycruz.sisargentina.com
SUMMARY:Vinito Club
DESCRIPTION:[vc_row][vc_column][vc_column_text]El vino y la música mendocina se unen en esta propuesta novedosa. \nHabrá degustaciones en 11 bodegas de la provincia. \nMúsica en vivo\, Foodtrucks e intervenciones. \nArtistas: Fran Figueroa. Felipe Staiti Trio. \nEntrada gratuita y cupos limitados de 250 localidades. \nSe ruega puntualidad y cumplir con el protocolo sanitario vigente.[/vc_column_text][/vc_column][/vc_row][vc_row][vc_column][vc_single_image image=»86979″ img_size=»full»][/vc_column][/vc_row] \n
URL:https://www.godoycruz.sisargentina.com/evento/vinito-club-2/
ATTACH;FMTTYPE=image/jpeg:https://www.godoycruz.sisargentina.com/wp-content/uploads/2022/02/274238018_497033585109509_5104251492222123621_n.jpg
END:VEVENT
END:VCALENDAR