BEGIN:VCALENDAR
VERSION:2.0
PRODID:-//Godoy Cruz - ECPv4.5.8.1//NONSGML v1.0//EN
CALSCALE:GREGORIAN
METHOD:PUBLISH
X-WR-CALNAME:Godoy Cruz
X-ORIGINAL-URL:https://www.godoycruz.sisargentina.com
X-WR-CALDESC:Events for Godoy Cruz
BEGIN:VEVENT
DTSTART;TZID=UTC-3:20220219T190000
DTEND;TZID=UTC-3:20220219T190000
DTSTAMP:20260422T110752
CREATED:20220218T175611Z
LAST-MODIFIED:20220218T175611Z
UID:86857-1645297200-1645297200@www.godoycruz.sisargentina.com
SUMMARY:Veraneando Ando: Circuito Cultural Barrial
DESCRIPTION:[vc_row][vc_column][vc_column_text]Espectáculos para toda la familia\, en distintos barrios de Godoy Cruz. \nFunción: “Polen\, un héroe un hecho de flores”\, de Elenco Kapaieie. \nJardín Jarillitas (vereda). Barrio Los Barrancos. \nEntrada gratuita (por orden de llegada). \nSe ruega puntualidad y cumplir con el protocolo sanitario vigente.[/vc_column_text][/vc_column][/vc_row][vc_row][vc_column][vc_single_image image=»86859″ img_size=»full»][/vc_column][/vc_row] \n
URL:https://www.godoycruz.sisargentina.com/evento/veraneando-ando-circuito-cultural-barrial-8/
ATTACH;FMTTYPE=image/jpeg:https://www.godoycruz.sisargentina.com/wp-content/uploads/2022/02/WhatsApp-Image-2022-02-18-at-09.39.46-1.jpeg
END:VEVENT
BEGIN:VEVENT
DTSTART;TZID=UTC-3:20220219T203000
DTEND;TZID=UTC-3:20220219T203000
DTSTAMP:20260422T110752
CREATED:20220217T163815Z
LAST-MODIFIED:20220217T163815Z
UID:86778-1645302600-1645302600@www.godoycruz.sisargentina.com
SUMMARY:Milonga en la Plaza
DESCRIPTION:[vc_row][vc_column][vc_column_text]Se viene este gran evento tanguero\, con destacados artistas del género. \nArtistas en vivo: \nDjs Javier Oliva y Pepe. \nMelina Krull (cantante). \nBailarines: \nAnsuya Difonso y Diego Pérez (Productora Papirusa Tango) \nCompañía Taura Tango. \nEntrada gratuita y cupos limitados. \nSe ruega puntualidad y cumplir con el protocolo sanitario vigente.[/vc_column_text][/vc_column][/vc_row][vc_row][vc_column][vc_single_image image=»86779″ img_size=»full»][/vc_column][/vc_row] \n
URL:https://www.godoycruz.sisargentina.com/evento/milonga-la-plaza/
ATTACH;FMTTYPE=image/jpeg:https://www.godoycruz.sisargentina.com/wp-content/uploads/2022/02/272960762_493433502136184_3174531997877403209_n.jpg
END:VEVENT
BEGIN:VEVENT
DTSTART;TZID=UTC-3:20220219T213000
DTEND;TZID=UTC-3:20220219T213000
DTSTAMP:20260422T110752
CREATED:20220218T142754Z
LAST-MODIFIED:20220218T142754Z
UID:86823-1645306200-1645306200@www.godoycruz.sisargentina.com
SUMMARY:Veraneando Ando: Música en Arizu
DESCRIPTION:[vc_row][vc_column][vc_column_text]Llega una noche de puro flamenco y variados sonidos. \nArtistas: \n«Facu Jofré y la Bestia» y cierre con Simpecao. \nEntrada gratuita y cupos limitados de 250 localidades. \nSe ruega puntualidad y cumplir con el protocolo sanitario vigente.[/vc_column_text][/vc_column][/vc_row][vc_row][vc_column][vc_single_image image=»86824″ img_size=»full»][/vc_column][/vc_row] \n
URL:https://www.godoycruz.sisargentina.com/evento/veraneando-ando-musica-arizu/
ATTACH;FMTTYPE=image/jpeg:https://www.godoycruz.sisargentina.com/wp-content/uploads/2022/02/274018046_494066655406202_4941826297415276164_n.jpg
END:VEVENT
BEGIN:VEVENT
DTSTART;TZID=UTC-3:20220219T213000
DTEND;TZID=UTC-3:20220219T213000
DTSTAMP:20260422T110752
CREATED:20220218T173641Z
LAST-MODIFIED:20220218T173641Z
UID:86847-1645306200-1645306200@www.godoycruz.sisargentina.com
SUMMARY:Veraneando Ando: Música en los Parques
DESCRIPTION:[vc_row][vc_column][vc_column_text]Diferentes bandas sacuden el Parque San Vicente con su música. \nPodés traer tu reposera o manta para disfrutar los recitales. \nArtistas: \nRicardo Di María + Lunas Morenas + Amikanto. \nEntrada gratuita. \nSe ruega puntualidad y cumplir con el protocolo sanitario vigente.[/vc_column_text][/vc_column][/vc_row][vc_row][vc_column][vc_single_image image=»86848″ img_size=»full»][/vc_column][/vc_row] \n
URL:https://www.godoycruz.sisargentina.com/evento/veraneando-ando-musica-los-parques-7/
ATTACH;FMTTYPE=image/jpeg:https://www.godoycruz.sisargentina.com/wp-content/uploads/2022/02/272982941_493813955431472_5766454015345392398_n-1.jpg
END:VEVENT
END:VCALENDAR