BEGIN:VCALENDAR
VERSION:2.0
PRODID:-//Godoy Cruz - ECPv4.5.8.1//NONSGML v1.0//EN
CALSCALE:GREGORIAN
METHOD:PUBLISH
X-WR-CALNAME:Godoy Cruz
X-ORIGINAL-URL:https://www.godoycruz.sisargentina.com
X-WR-CALDESC:Events for Godoy Cruz
BEGIN:VEVENT
DTSTART;TZID=UTC-3:20220206T190000
DTEND;TZID=UTC-3:20220206T190000
DTSTAMP:20260422T093144
CREATED:20220204T170100Z
LAST-MODIFIED:20220204T170100Z
UID:86270-1644174000-1644174000@www.godoycruz.sisargentina.com
SUMMARY:Veraneando Ando: Circuito Cultural Barrial
DESCRIPTION:[vc_row][vc_column][vc_column_text]Espectáculos para toda la familia\, en distintos barrios de Godoy Cruz. \nFunción: Sacachispa Super Star. \nAnfiteatro del Barrio La Estanzuela. Olmos Zárate y Soler. \nEntrada gratuita (por orden de llegada) \nSe ruega puntualidad y cumplir con el protocolo sanitario vigente.[/vc_column_text][/vc_column][/vc_row][vc_row][vc_column][vc_single_image image=»86271″ img_size=»full»][/vc_column][/vc_row] \n
URL:https://www.godoycruz.sisargentina.com/evento/veraneando-ando-circuito-cultural-barrial-7/
ATTACH;FMTTYPE=image/jpeg:https://www.godoycruz.sisargentina.com/wp-content/uploads/2022/02/WhatsApp-Image-2022-01-31-at-13.54.50.jpeg
END:VEVENT
BEGIN:VEVENT
DTSTART;TZID=UTC-3:20220206T200000
DTEND;TZID=UTC-3:20220206T200000
DTSTAMP:20260422T093144
CREATED:20220202T153730Z
LAST-MODIFIED:20220202T153730Z
UID:86198-1644177600-1644177600@www.godoycruz.sisargentina.com
SUMMARY:Supermercarte Edición Vendimia
DESCRIPTION:[vc_row][vc_column][vc_column_text]Obras de arte. Música en vivo. Foodtrucks. \nArtistas: Dúo Pinto – Colombo + Mariana Päraway. \nEntrada gratuita y cupos limitados \nSe ruega puntualidad y cumplir con el protocolo sanitario vigente.[/vc_column_text][/vc_column][/vc_row][vc_row][vc_column][vc_single_image image=»86181″ img_size=»full»][/vc_column][/vc_row] \n
URL:https://www.godoycruz.sisargentina.com/evento/supermercarte-edicion-vendimia-3/
ATTACH;FMTTYPE=image/jpeg:https://www.godoycruz.sisargentina.com/wp-content/uploads/2022/02/WhatsApp-Image-2022-02-01-at-14.20.55.jpeg
END:VEVENT
BEGIN:VEVENT
DTSTART;TZID=UTC-3:20220206T213000
DTEND;TZID=UTC-3:20220206T213000
DTSTAMP:20260422T093144
CREATED:20220112T155000Z
LAST-MODIFIED:20220112T155000Z
UID:85651-1644183000-1644183000@www.godoycruz.sisargentina.com
SUMMARY:Veraneando Ando: Cine Placero
DESCRIPTION:[vc_row][vc_column][vc_column_text]Grandes películas llegan al verano de Godoy Cruz. \nFilm: “The Truman Show”. \n\n103 min. Comedia dramática.\n\nDirección: Peter Weir. \nEntrada gratuita. \nSe ruega puntualidad y cumplir con el protocolo sanitario vigente.[/vc_column_text][/vc_column][/vc_row][vc_row][vc_column][vc_single_image image=»85647″ img_size=»full»][/vc_column][/vc_row] \n
URL:https://www.godoycruz.sisargentina.com/evento/veraneando-ando-cine-placero-2/
ATTACH;FMTTYPE=image/jpeg:https://www.godoycruz.sisargentina.com/wp-content/uploads/2022/01/WhatsApp-Image-2022-01-10-at-16.40.45.jpeg
END:VEVENT
BEGIN:VEVENT
DTSTART;TZID=UTC-3:20220206T213000
DTEND;TZID=UTC-3:20220206T213000
DTSTAMP:20260422T093144
CREATED:20220203T164159Z
LAST-MODIFIED:20220203T164159Z
UID:86245-1644183000-1644183000@www.godoycruz.sisargentina.com
SUMMARY:Veraneando Ando: Música en los Parques
DESCRIPTION:[vc_row][vc_column][vc_column_text]Diferentes grupos y artistas traen su música al Parque Margarita. \nAcordate que podés traer tu reposera o manta para disfrutar los recitales. \nArtistas: Nahuel Jofré + María Eugenia Fernández. \nEntrada gratuita. \nSe ruega puntualidad y cumplir con el protocolo sanitario vigente.[/vc_column_text][/vc_column][/vc_row][vc_row][vc_column][vc_single_image image=»86246″ img_size=»full»][/vc_column][/vc_row] \n
URL:https://www.godoycruz.sisargentina.com/evento/veraneando-ando-musica-los-parques-6/
ATTACH;FMTTYPE=image/jpeg:https://www.godoycruz.sisargentina.com/wp-content/uploads/2022/02/272688301_1764708763714693_4314507626369138801_n.jpg
END:VEVENT
END:VCALENDAR