BEGIN:VCALENDAR
VERSION:2.0
PRODID:-//Godoy Cruz - ECPv4.5.8.1//NONSGML v1.0//EN
CALSCALE:GREGORIAN
METHOD:PUBLISH
X-WR-CALNAME:Godoy Cruz
X-ORIGINAL-URL:https://www.godoycruz.sisargentina.com
X-WR-CALDESC:Events for Godoy Cruz
BEGIN:VEVENT
DTSTART;TZID=UTC-3:20220130T183000
DTEND;TZID=UTC-3:20220130T183000
DTSTAMP:20260422T124840
CREATED:20220128T152853Z
LAST-MODIFIED:20220128T152853Z
UID:86024-1643567400-1643567400@www.godoycruz.sisargentina.com
SUMMARY:Veraneando Ando: Circuito Cultural Barrial
DESCRIPTION:[vc_row][vc_column][vc_column_text]Espectáculos para toda la familia\, en distintos barrios de Godoy Cruz. \nFunción: “Amor indio”\, de Elenco Burbujas. \nBulevar Barrio Huarpes. Comechingones y Ñancuñan. \nEntrada gratuita (por orden de llegada) \nSe ruega puntualidad y cumplir con el protocolo sanitario vigente.[/vc_column_text][/vc_column][/vc_row][vc_row][vc_column][vc_single_image image=»86025″ img_size=»full»][/vc_column][/vc_row] \n
URL:https://www.godoycruz.sisargentina.com/evento/veraneando-ando-circuito-cultural-barrial-5/
ATTACH;FMTTYPE=image/jpeg:https://www.godoycruz.sisargentina.com/wp-content/uploads/2022/01/WhatsApp-Image-2022-01-27-at-10.14.42.jpeg
END:VEVENT
BEGIN:VEVENT
DTSTART;TZID=UTC-3:20220130T213000
DTEND;TZID=UTC-3:20220130T213000
DTSTAMP:20260422T124840
CREATED:20220112T154235Z
LAST-MODIFIED:20220112T154235Z
UID:85646-1643578200-1643578200@www.godoycruz.sisargentina.com
SUMMARY:Veraneando Ando: Cine Placero
DESCRIPTION:[vc_row][vc_column][vc_column_text]Grandes películas llegan al verano de Godoy Cruz. \nFilm: “El vuelo” (Flight). \n2012. 138 min. Drama. \nDirección: Robert Zemeckis \nEntrada gratuita. \nSe ruega puntualidad y cumplir con el protocolo sanitario vigente. \n[/vc_column_text][/vc_column][/vc_row][vc_row][vc_column][vc_single_image image=»85647″ img_size=»full»][/vc_column][/vc_row] \n
URL:https://www.godoycruz.sisargentina.com/evento/veraneando-ando-cine-placero/
ATTACH;FMTTYPE=image/jpeg:https://www.godoycruz.sisargentina.com/wp-content/uploads/2022/01/WhatsApp-Image-2022-01-10-at-16.40.45.jpeg
END:VEVENT
BEGIN:VEVENT
DTSTART;TZID=UTC-3:20220130T213000
DTEND;TZID=UTC-3:20220130T213000
DTSTAMP:20260422T124840
CREATED:20220124T164841Z
LAST-MODIFIED:20220124T175202Z
UID:85883-1643578200-1643578200@www.godoycruz.sisargentina.com
SUMMARY:Veraneando Ando: Arizu Blues
DESCRIPTION:[vc_row][vc_column][vc_column_text]Festival que reúne a importantes exponentes del Blues en Mendoza. \nHabrá música de grandes bandas y Foodtrucks. \nArtistas: Lemmy y los del boticario del Dr. Mapache + La Bocha Blues. \nEntrada gratuita (cupo limitado de 250 localidades). \nSe ruega puntualidad y cumplir con el protocolo sanitario vigente.[/vc_column_text][/vc_column][/vc_row][vc_row][vc_column][vc_single_image image=»85884″ img_size=»full»][/vc_column][/vc_row] \n
URL:https://www.godoycruz.sisargentina.com/evento/veraneando-ando-arizu-blues-2/
ATTACH;FMTTYPE=image/jpeg:https://www.godoycruz.sisargentina.com/wp-content/uploads/2022/01/WhatsApp-Image-2022-01-24-at-12.59.36.jpeg
END:VEVENT
BEGIN:VEVENT
DTSTART;TZID=UTC-3:20220130T213000
DTEND;TZID=UTC-3:20220130T213000
DTSTAMP:20260422T124840
CREATED:20220126T192838Z
LAST-MODIFIED:20220126T192838Z
UID:85978-1643578200-1643578200@www.godoycruz.sisargentina.com
SUMMARY:Veraneando Ando: Música en los Parques
DESCRIPTION:[vc_row][vc_column][vc_column_text]Diferentes bandas sacuden el Parque Margarita con su música. \nPodés traer tu reposera o manta para disfrutar los recitales. \nArtistas: De Agua y Barro + Cara y Cepa. \nEntrada gratuita. \nSe ruega puntualidad y cumplir con el protocolo sanitario vigente.[/vc_column_text][/vc_column][/vc_row][vc_row][vc_column][vc_single_image image=»85979″ img_size=»full»][/vc_column][/vc_row] \n
URL:https://www.godoycruz.sisargentina.com/evento/veraneando-ando-musica-los-parques-4/
ATTACH;FMTTYPE=image/jpeg:https://www.godoycruz.sisargentina.com/wp-content/uploads/2022/01/WhatsApp-Image-2022-01-26-at-09.33.10.jpeg
END:VEVENT
END:VCALENDAR