BEGIN:VCALENDAR
VERSION:2.0
PRODID:-//Godoy Cruz - ECPv4.5.8.1//NONSGML v1.0//EN
CALSCALE:GREGORIAN
METHOD:PUBLISH
X-WR-CALNAME:Godoy Cruz
X-ORIGINAL-URL:https://www.godoycruz.sisargentina.com
X-WR-CALDESC:Events for Godoy Cruz
BEGIN:VEVENT
DTSTART;TZID=UTC-3:20220128T180000
DTEND;TZID=UTC-3:20220128T180000
DTSTAMP:20260422T142257
CREATED:20220125T163048Z
LAST-MODIFIED:20220125T163048Z
UID:85921-1643392800-1643392800@www.godoycruz.sisargentina.com
SUMMARY:Godoy Cruz Freestyle 60K
DESCRIPTION:[vc_row][vc_column][vc_column_text]Se viene la segunda fecha de esta competencia de rap. \nJóvenes competidores van a demostrar su talento. \nPremio: $60.000 para el ganador o la ganadora. \nEspectáculos: «Luchito Crisis» y «Emi Reina». \nHost: Soplay y Zero. \nJurados: Dragon Rapstar\, Vid\, Eze Calderon y Toro. \nInscripciónes gratuitas. \nEntrada gratuita. Se ruega puntualidad y cumplir con el protocolo sanitario vigente.[/vc_column_text][/vc_column][/vc_row][vc_row][vc_column][vc_single_image image=»85920″ img_size=»full»][/vc_column][/vc_row] \n
URL:https://www.godoycruz.sisargentina.com/evento/godoy-cruz-freestyle-60k/
ATTACH;FMTTYPE=image/jpeg:https://www.godoycruz.sisargentina.com/wp-content/uploads/2022/01/272657822_1758580040994232_2806606512025779862_n.jpg
END:VEVENT
BEGIN:VEVENT
DTSTART;TZID=UTC-3:20220128T200000
DTEND;TZID=UTC-3:20220128T200000
DTSTAMP:20260422T142257
CREATED:20220127T132710Z
LAST-MODIFIED:20220127T132710Z
UID:85989-1643400000-1643400000@www.godoycruz.sisargentina.com
SUMMARY:Veraneando Ando: "Atardecer en Arizu"
DESCRIPTION:[vc_row][vc_column][vc_column_text]Sets de música electrónica con importantes Djs de nuestra provincia. \nMusica en vivo y Foodtrucks. \nArtistas: Myoos + Agustina Aliaga. \nEntrada gratuita (cupo limitado de 250 localidades). \nSe ruega puntualidad y cumplir con el protocolo sanitario vigente.[/vc_column_text][/vc_column][/vc_row][vc_row][vc_column][vc_single_image image=»85990″ img_size=»full»][/vc_column][/vc_row] \n
URL:https://www.godoycruz.sisargentina.com/evento/veraneando-ando-atardecer-arizu/
ATTACH;FMTTYPE=image/jpeg:https://www.godoycruz.sisargentina.com/wp-content/uploads/2022/01/fd8d5562-ac16-47db-a875-0d0bf37d1928.jpg
END:VEVENT
END:VCALENDAR