BEGIN:VCALENDAR
VERSION:2.0
PRODID:-//Godoy Cruz - ECPv4.5.8.1//NONSGML v1.0//EN
CALSCALE:GREGORIAN
METHOD:PUBLISH
X-WR-CALNAME:Godoy Cruz
X-ORIGINAL-URL:https://www.godoycruz.sisargentina.com
X-WR-CALDESC:Events for Godoy Cruz
BEGIN:VEVENT
DTSTART;TZID=UTC-3:20220123T183000
DTEND;TZID=UTC-3:20220123T183000
DTSTAMP:20260422T221412
CREATED:20220120T135642Z
LAST-MODIFIED:20220120T135642Z
UID:85808-1642962600-1642962600@www.godoycruz.sisargentina.com
SUMMARY:Veraneando Ando: Circuito Cultural Barrial
DESCRIPTION:[vc_row][vc_column][vc_column_text]Espectáculos para toda la familia\, en distintos barrios de Godoy Cruz. \nFunción: Tatán Circo. \nBarrio ATSA. Manuela Pedraza y Vélez Sarsfield. \nEntrada gratuita (por orden de llegada) \nSe ruega puntualidad y cumplir con el protocolo sanitario vigente.[/vc_column_text][/vc_column][/vc_row][vc_row][vc_column][vc_single_image image=»85809″ img_size=»full»][/vc_column][/vc_row] \n
URL:https://www.godoycruz.sisargentina.com/evento/veraneando-ando-circuito-cultural-barrial-3/
ATTACH;FMTTYPE=image/jpeg:https://www.godoycruz.sisargentina.com/wp-content/uploads/2022/01/271926231_1754150804770489_140023716052391901_n.jpg
END:VEVENT
BEGIN:VEVENT
DTSTART;TZID=UTC-3:20220123T213000
DTEND;TZID=UTC-3:20220123T213000
DTSTAMP:20260422T221412
CREATED:20220118T171059Z
LAST-MODIFIED:20220118T171059Z
UID:85775-1642973400-1642973400@www.godoycruz.sisargentina.com
SUMMARY:Veraneando Ando: Arizu Jazz
DESCRIPTION:[vc_row][vc_column][vc_column_text]El Jazz se apodera del Espacio Arizu con este nuevo festival. \nGrandes exponentes del género sonarán fuerte en el escenario. \nArtistas: Les Gitans + Up All Night! \nEntrada gratuita (cupo 250 localidades). \nSe ruega puntualidad y cumplir con el protocolo sanitario vigente.[/vc_column_text][/vc_column][/vc_row][vc_row][vc_column][vc_single_image image=»85776″ img_size=»full»][/vc_column][/vc_row] \n
URL:https://www.godoycruz.sisargentina.com/evento/veraneando-ando-arizu-jazz-3/
ATTACH;FMTTYPE=image/jpeg:https://www.godoycruz.sisargentina.com/wp-content/uploads/2022/01/271893826_2207789059377360_2434498935561642921_n.jpg
END:VEVENT
BEGIN:VEVENT
DTSTART;TZID=UTC-3:20220123T213000
DTEND;TZID=UTC-3:20220123T213000
DTSTAMP:20260422T221412
CREATED:20220119T162214Z
LAST-MODIFIED:20220119T162214Z
UID:85794-1642973400-1642973400@www.godoycruz.sisargentina.com
SUMMARY:Veraneando Ando: Música en los Parques
DESCRIPTION:[vc_row][vc_column][vc_column_text]Diferentes bandas llegan al Parque Benegas con su original sonido. \nPodés traer tu reposera o manta para disfrutar los recitales. \nArtistas: Mariana Lara + La Bolivian + Tango Beat. \nEntrada gratuita. \nSe ruega puntualidad y cumplir con el protocolo sanitario vigente.[/vc_column_text][/vc_column][/vc_row][vc_row][vc_column][vc_single_image image=»85795″ img_size=»full»][/vc_column][/vc_row] \n
URL:https://www.godoycruz.sisargentina.com/evento/veraneando-ando-musica-los-parques/
ATTACH;FMTTYPE=image/jpeg:https://www.godoycruz.sisargentina.com/wp-content/uploads/2022/01/271976443_1754258288093074_2341333299870401834_n.jpg
END:VEVENT
END:VCALENDAR