BEGIN:VCALENDAR
VERSION:2.0
PRODID:-//Godoy Cruz - ECPv4.5.8.1//NONSGML v1.0//EN
CALSCALE:GREGORIAN
METHOD:PUBLISH
X-WR-CALNAME:Godoy Cruz
X-ORIGINAL-URL:https://www.godoycruz.sisargentina.com
X-WR-CALDESC:Events for Godoy Cruz
BEGIN:VEVENT
DTSTART;TZID=UTC-3:20220121T213000
DTEND;TZID=UTC-3:20220121T213000
DTSTAMP:20260423T010208
CREATED:20220118T165018Z
LAST-MODIFIED:20220118T165018Z
UID:85767-1642800600-1642800600@www.godoycruz.sisargentina.com
SUMMARY:Veraneando Ando: Arizu Jazz
DESCRIPTION:[vc_row][vc_column][vc_column_text]El Jazz se apodera del Espacio Arizu con este nuevo festival. \nGrandes exponentes del género sonarán fuerte en el escenario. \nArtistas: BOP Quintet + Qüassi. \nEntrada gratuita (cupo 250 localidades). \nSe ruega puntualidad y cumplir con el protocolo sanitario vigente.[/vc_column_text][/vc_column][/vc_row][vc_row][vc_column][vc_single_image image=»85768″ img_size=»full»][/vc_column][/vc_row] \n
URL:https://www.godoycruz.sisargentina.com/evento/veraneando-ando-arizu-jazz/
ATTACH;FMTTYPE=image/jpeg:https://www.godoycruz.sisargentina.com/wp-content/uploads/2022/01/272031931_2207788449377421_3278312099361352444_n.jpg
END:VEVENT
END:VCALENDAR