BEGIN:VCALENDAR
VERSION:2.0
PRODID:-//Godoy Cruz - ECPv4.5.8.1//NONSGML v1.0//EN
CALSCALE:GREGORIAN
METHOD:PUBLISH
X-WR-CALNAME:Godoy Cruz
X-ORIGINAL-URL:https://www.godoycruz.sisargentina.com
X-WR-CALDESC:Events for Godoy Cruz
BEGIN:VEVENT
DTSTART;TZID=UTC-3:20211210T190000
DTEND;TZID=UTC-3:20211210T190000
DTSTAMP:20260423T100121
CREATED:20211130T150541Z
LAST-MODIFIED:20211130T150541Z
UID:84414-1639162800-1639162800@www.godoycruz.sisargentina.com
SUMMARY:Fiesta Provincial de la Cerveza #14
DESCRIPTION:[vc_row][vc_column][vc_column_text]Recitales en vivo. Patio cervecero y espacio gastronómico. \nPuntos de vacunación Covid-19. Tienda Creativa (Multiespacio de emprendedores). \nArtistas: Wachas Negras; Che Compadre; Tren Elefante; Hidalgo y sus Galácticos; Willy Tertulian; La Delio Valdez. \nApertura del predio: 19 horas. Parque San Vicente. \nValor por noche: $𝟭𝟬𝟬𝟬. Abono por 3 noches: $𝟮𝟱𝟬𝟬. \nVenta online: www.fiestacervezagc.com.ar \nIngreso con el esquema de vacunación completo.[/vc_column_text][/vc_column][/vc_row][vc_row][vc_column][vc_single_image image=»84415″ img_size=»full»][/vc_column][/vc_row] \n
URL:https://www.godoycruz.sisargentina.com/evento/fiesta-provincial-la-cerveza-14/
ATTACH;FMTTYPE=image/jpeg:https://www.godoycruz.sisargentina.com/wp-content/uploads/2021/11/260367260_4563714506998362_8671260376209453743_n.jpg
END:VEVENT
END:VCALENDAR